Back to Multiple platform build/check report for BioC 3.13 experimental data |
|
This page was generated on 2021-01-11 15:59:24 -0500 (Mon, 11 Jan 2021).
TO THE DEVELOPERS/MAINTAINERS OF THE pasillaBamSubset PACKAGE: Please make sure to use the following settings in order to reproduce any error or warning you see on this page. |
Package 257/385 | Hostname | OS / Arch | INSTALL | BUILD | CHECK | ||||||
pasillaBamSubset 0.29.0 Hervé Pagès
| malbec2 | Linux (Ubuntu 20.04.1 LTS) / x86_64 | [ OK ] | OK | OK | ![]() | |||||
riesling1 | Windows Server 2019 Standard / x64 | OK | OK | OK |
Package: pasillaBamSubset |
Version: 0.29.0 |
Command: /home/biocbuild/bbs-3.13-bioc/R/bin/R CMD INSTALL pasillaBamSubset |
StartedAt: 2021-01-11 09:47:47 -0500 (Mon, 11 Jan 2021) |
EndedAt: 2021-01-11 09:47:53 -0500 (Mon, 11 Jan 2021) |
EllapsedTime: 5.8 seconds |
RetCode: 0 |
Status: OK |
############################################################################## ############################################################################## ### ### Running command: ### ### /home/biocbuild/bbs-3.13-bioc/R/bin/R CMD INSTALL pasillaBamSubset ### ############################################################################## ############################################################################## * installing to library ‘/home/biocbuild/bbs-3.13-bioc/R/library’ * installing *source* package ‘pasillaBamSubset’ ... ** using staged installation ** R ** inst ** byte-compile and prepare package for lazy loading ** help *** installing help indices ** building package indices ** testing if installed package can be loaded from temporary location ** testing if installed package can be loaded from final location ** testing if installed package keeps a record of temporary installation path * DONE (pasillaBamSubset)