Back to Multiple platform build/check report for BioC 3.13 experimental data
ABCDEFG[H]IJKLMNOPQRSTUVWXYZ

INSTALL report for HiCDataLymphoblast on malbec2

This page was generated on 2021-01-14 15:59:03 -0500 (Thu, 14 Jan 2021).

TO THE DEVELOPERS/MAINTAINERS OF THE HiCDataLymphoblast PACKAGE: Please make sure to use the following settings in order to reproduce any error or warning you see on this page.
Package 173/385HostnameOS / ArchINSTALLBUILDCHECK
HiCDataLymphoblast 1.27.0
Borbala Mifsud
Snapshot Date: 2021-01-14 09:00:13 -0500 (Thu, 14 Jan 2021)
URL: https://git.bioconductor.org/packages/HiCDataLymphoblast
Branch: master
Last Commit: e992ed9
Last Changed Date: 2020-10-27 10:07:01 -0500 (Tue, 27 Oct 2020)
malbec2 Linux (Ubuntu 20.04.1 LTS) / x86_64 [ OK ] OK  OK UNNEEDED, same version exists in internal repository
riesling1 Windows Server 2019 Standard / x64  OK  OK  OK 

Summary

Package: HiCDataLymphoblast
Version: 1.27.0
Command: /home/biocbuild/bbs-3.13-bioc/R/bin/R CMD INSTALL HiCDataLymphoblast
StartedAt: 2021-01-14 09:51:23 -0500 (Thu, 14 Jan 2021)
EndedAt: 2021-01-14 09:51:28 -0500 (Thu, 14 Jan 2021)
EllapsedTime: 5.5 seconds
RetCode: 0
Status:  OK 

Command output

##############################################################################
##############################################################################
###
### Running command:
###
###   /home/biocbuild/bbs-3.13-bioc/R/bin/R CMD INSTALL HiCDataLymphoblast
###
##############################################################################
##############################################################################


* installing to library ‘/home/biocbuild/bbs-3.13-bioc/R/library’
* installing *source* package ‘HiCDataLymphoblast’ ...
** using staged installation
** inst
** help
No man pages found in package  ‘HiCDataLymphoblast’ 
*** installing help indices
** building package indices
** installing vignettes
** testing if installed package can be loaded from temporary location
** testing if installed package can be loaded from final location
** testing if installed package keeps a record of temporary installation path
* DONE (HiCDataLymphoblast)