Back to Multiple platform build/check report for BioC 3.13 experimental data
ABCDEFGHIJKL[M]NOPQRSTUVWXYZ

BUILD report for MSMB on malbec2

This page was generated on 2021-01-18 15:58:38 -0500 (Mon, 18 Jan 2021).

TO THE DEVELOPERS/MAINTAINERS OF THE MSMB PACKAGE: Please make sure to use the following settings in order to reproduce any error or warning you see on this page.
Package 237/385HostnameOS / ArchINSTALLBUILDCHECK
MSMB 1.9.0
Wolfgang Huber
Snapshot Date: 2021-01-18 09:00:15 -0500 (Mon, 18 Jan 2021)
URL: https://git.bioconductor.org/packages/MSMB
Branch: master
Last Commit: 47c031e
Last Changed Date: 2020-10-27 10:26:58 -0500 (Tue, 27 Oct 2020)
malbec2 Linux (Ubuntu 20.04.1 LTS) / x86_64  OK [ OK ] WARNINGS UNNEEDED, same version exists in internal repository
riesling1 Windows Server 2019 Standard / x64  OK  OK  WARNINGS 

Summary

Package: MSMB
Version: 1.9.0
Command: /home/biocbuild/bbs-3.13-bioc/R/bin/R CMD build --keep-empty-dirs --no-resave-data MSMB
StartedAt: 2021-01-18 11:07:55 -0500 (Mon, 18 Jan 2021)
EndedAt: 2021-01-18 11:08:05 -0500 (Mon, 18 Jan 2021)
EllapsedTime: 9.4 seconds
RetCode: 0
Status:  OK 
PackageFile: MSMB_1.9.0.tar.gz
PackageFileSize: 4.94 MiB

Command output

##############################################################################
##############################################################################
###
### Running command:
###
###   /home/biocbuild/bbs-3.13-bioc/R/bin/R CMD build --keep-empty-dirs --no-resave-data MSMB
###
##############################################################################
##############################################################################


* checking for file ‘MSMB/DESCRIPTION’ ... OK
* preparing ‘MSMB’:
* checking DESCRIPTION meta-information ... OK
* installing the package to build vignettes
* creating vignettes ... OK
* checking for LF line-endings in source and make files and shell scripts
* checking for empty or unneeded directories
* looking to see if a ‘data/datalist’ file should be added
* building ‘MSMB_1.9.0.tar.gz’