Back to Multiple platform build/check report for BioC 3.13 experimental data
ABCDEFGHIJKLMNOPQ[R]STUVWXYZ

INSTALL report for RTCGA.PANCAN12 on malbec2

This page was generated on 2021-01-14 15:59:05 -0500 (Thu, 14 Jan 2021).

TO THE DEVELOPERS/MAINTAINERS OF THE RTCGA.PANCAN12 PACKAGE: Please make sure to use the following settings in order to reproduce any error or warning you see on this page.
Package 316/385HostnameOS / ArchINSTALLBUILDCHECK
RTCGA.PANCAN12 1.19.0
Marcin Kosinski
Snapshot Date: 2021-01-14 09:00:13 -0500 (Thu, 14 Jan 2021)
URL: https://git.bioconductor.org/packages/RTCGA.PANCAN12
Branch: master
Last Commit: 062e24d
Last Changed Date: 2020-10-27 10:16:56 -0500 (Tue, 27 Oct 2020)
malbec2 Linux (Ubuntu 20.04.1 LTS) / x86_64 [ OK ] OK  OK UNNEEDED, same version exists in internal repository
riesling1 Windows Server 2019 Standard / x64  OK  OK  OK 

Summary

Package: RTCGA.PANCAN12
Version: 1.19.0
Command: /home/biocbuild/bbs-3.13-bioc/R/bin/R CMD INSTALL RTCGA.PANCAN12
StartedAt: 2021-01-14 10:10:37 -0500 (Thu, 14 Jan 2021)
EndedAt: 2021-01-14 10:10:50 -0500 (Thu, 14 Jan 2021)
EllapsedTime: 12.6 seconds
RetCode: 0
Status:  OK 

Command output

##############################################################################
##############################################################################
###
### Running command:
###
###   /home/biocbuild/bbs-3.13-bioc/R/bin/R CMD INSTALL RTCGA.PANCAN12
###
##############################################################################
##############################################################################


* installing to library ‘/home/biocbuild/bbs-3.13-bioc/R/library’
* installing *source* package ‘RTCGA.PANCAN12’ ...
** using staged installation
** R
** data
** byte-compile and prepare package for lazy loading
** help
*** installing help indices
** building package indices
** installing vignettes
** testing if installed package can be loaded from temporary location
** testing if installed package can be loaded from final location
** testing if installed package keeps a record of temporary installation path
* DONE (RTCGA.PANCAN12)