Back to Multiple platform build/check report for BioC 3.13 experimental data
ABCDEFGHIJKLMNO[P]QRSTUVWXYZ

INSTALL report for pd.atdschip.tiling on malbec2

This page was generated on 2021-01-21 16:01:16 -0500 (Thu, 21 Jan 2021).

TO THE DEVELOPERS/MAINTAINERS OF THE pd.atdschip.tiling PACKAGE: Please make sure to use the following settings in order to reproduce any error or warning you see on this page.
Package 262/386HostnameOS / ArchINSTALLBUILDCHECK
pd.atdschip.tiling 0.29.0
Kristof De Beuf
Snapshot Date: 2021-01-21 09:00:14 -0500 (Thu, 21 Jan 2021)
URL: https://git.bioconductor.org/packages/pd.atdschip.tiling
Branch: master
Last Commit: c41aa07
Last Changed Date: 2020-10-27 09:56:59 -0500 (Tue, 27 Oct 2020)
malbec2 Linux (Ubuntu 20.04.1 LTS) / x86_64 [ OK ] OK  WARNINGS UNNEEDED, same version exists in internal repository
riesling1 Windows Server 2019 Standard / x64  OK  OK  WARNINGS 

Summary

Package: pd.atdschip.tiling
Version: 0.29.0
Command: /home/biocbuild/bbs-3.13-bioc/R/bin/R CMD INSTALL pd.atdschip.tiling
StartedAt: 2021-01-21 09:58:36 -0500 (Thu, 21 Jan 2021)
EndedAt: 2021-01-21 09:59:21 -0500 (Thu, 21 Jan 2021)
EllapsedTime: 44.8 seconds
RetCode: 0
Status:  OK 

Command output

##############################################################################
##############################################################################
###
### Running command:
###
###   /home/biocbuild/bbs-3.13-bioc/R/bin/R CMD INSTALL pd.atdschip.tiling
###
##############################################################################
##############################################################################


* installing to library ‘/home/biocbuild/bbs-3.13-bioc/R/library’
* installing *source* package ‘pd.atdschip.tiling’ ...
** using staged installation
** R
** data
** inst
** byte-compile and prepare package for lazy loading
** help
*** installing help indices
** building package indices
** testing if installed package can be loaded from temporary location
** testing if installed package can be loaded from final location
** testing if installed package keeps a record of temporary installation path
* DONE (pd.atdschip.tiling)