Back to Multiple platform build/check report for BioC 3.13 experimental data |
|
This page was generated on 2021-01-11 15:59:27 -0500 (Mon, 11 Jan 2021).
TO THE DEVELOPERS/MAINTAINERS OF THE spqnData PACKAGE: Please make sure to use the following settings in order to reproduce any error or warning you see on this page. |
Package 344/385 | Hostname | OS / Arch | INSTALL | BUILD | CHECK | ||||||
spqnData 1.3.0 Yi Wang
| malbec2 | Linux (Ubuntu 20.04.1 LTS) / x86_64 | [ OK ] | OK | OK | ![]() | |||||
riesling1 | Windows Server 2019 Standard / x64 | OK | OK | OK |
Package: spqnData |
Version: 1.3.0 |
Command: /home/biocbuild/bbs-3.13-bioc/R/bin/R CMD INSTALL spqnData |
StartedAt: 2021-01-11 09:57:33 -0500 (Mon, 11 Jan 2021) |
EndedAt: 2021-01-11 09:57:46 -0500 (Mon, 11 Jan 2021) |
EllapsedTime: 12.5 seconds |
RetCode: 0 |
Status: OK |
############################################################################## ############################################################################## ### ### Running command: ### ### /home/biocbuild/bbs-3.13-bioc/R/bin/R CMD INSTALL spqnData ### ############################################################################## ############################################################################## * installing to library ‘/home/biocbuild/bbs-3.13-bioc/R/library’ * installing *source* package ‘spqnData’ ... ** using staged installation ** data ** inst ** help *** installing help indices ** building package indices ** testing if installed package can be loaded from temporary location ** testing if installed package can be loaded from final location ** testing if installed package keeps a record of temporary installation path * DONE (spqnData)