Back to Multiple platform build/check report for BioC 3.13 experimental data |
|
This page was generated on 2021-01-18 15:58:39 -0500 (Mon, 18 Jan 2021).
TO THE DEVELOPERS/MAINTAINERS OF THE RTCGA.miRNASeq PACKAGE: Please make sure to use the following settings in order to reproduce any error or warning you see on this page. |
Package 313/385 | Hostname | OS / Arch | INSTALL | BUILD | CHECK | ||||||
RTCGA.miRNASeq 1.19.0 Marcin Kosinski
| malbec2 | Linux (Ubuntu 20.04.1 LTS) / x86_64 | OK | [ OK ] | OK | ![]() | |||||
riesling1 | Windows Server 2019 Standard / x64 | OK | OK | WARNINGS |
Package: RTCGA.miRNASeq |
Version: 1.19.0 |
Command: /home/biocbuild/bbs-3.13-bioc/R/bin/R CMD build --keep-empty-dirs --no-resave-data RTCGA.miRNASeq |
StartedAt: 2021-01-18 11:19:25 -0500 (Mon, 18 Jan 2021) |
EndedAt: 2021-01-18 11:22:09 -0500 (Mon, 18 Jan 2021) |
EllapsedTime: 164.6 seconds |
RetCode: 0 |
Status: OK |
PackageFile: RTCGA.miRNASeq_1.19.0.tar.gz |
PackageFileSize: 45.24 MiB |
############################################################################## ############################################################################## ### ### Running command: ### ### /home/biocbuild/bbs-3.13-bioc/R/bin/R CMD build --keep-empty-dirs --no-resave-data RTCGA.miRNASeq ### ############################################################################## ############################################################################## * checking for file ‘RTCGA.miRNASeq/DESCRIPTION’ ... OK * preparing ‘RTCGA.miRNASeq’: * checking DESCRIPTION meta-information ... OK * installing the package to build vignettes * creating vignettes ... OK * checking for LF line-endings in source and make files and shell scripts * checking for empty or unneeded directories * building ‘RTCGA.miRNASeq_1.19.0.tar.gz’