Back to Multiple platform build/check report for BioC 3.13 experimental data |
|
This page was generated on 2021-01-14 15:59:06 -0500 (Thu, 14 Jan 2021).
TO THE DEVELOPERS/MAINTAINERS OF THE TENxBUSData PACKAGE: Please make sure to use the following settings in order to reproduce any error or warning you see on this page. |
Package 362/385 | Hostname | OS / Arch | INSTALL | BUILD | CHECK | ||||||
TENxBUSData 1.5.0 Lambda Moses
| malbec2 | Linux (Ubuntu 20.04.1 LTS) / x86_64 | [ OK ] | OK | OK | ![]() | |||||
riesling1 | Windows Server 2019 Standard / x64 | OK | OK | OK |
Package: TENxBUSData |
Version: 1.5.0 |
Command: /home/biocbuild/bbs-3.13-bioc/R/bin/R CMD INSTALL TENxBUSData |
StartedAt: 2021-01-14 10:03:25 -0500 (Thu, 14 Jan 2021) |
EndedAt: 2021-01-14 10:03:36 -0500 (Thu, 14 Jan 2021) |
EllapsedTime: 11.4 seconds |
RetCode: 0 |
Status: OK |
############################################################################## ############################################################################## ### ### Running command: ### ### /home/biocbuild/bbs-3.13-bioc/R/bin/R CMD INSTALL TENxBUSData ### ############################################################################## ############################################################################## * installing to library ‘/home/biocbuild/bbs-3.13-bioc/R/library’ * installing *source* package ‘TENxBUSData’ ... ** using staged installation ** R ** inst ** byte-compile and prepare package for lazy loading ** help *** installing help indices ** building package indices ** installing vignettes ** testing if installed package can be loaded from temporary location ** testing if installed package can be loaded from final location ** testing if installed package keeps a record of temporary installation path * DONE (TENxBUSData)