Back to Multiple platform build/check report for BioC 3.13 experimental data |
|
This page was generated on 2021-01-14 15:58:57 -0500 (Thu, 14 Jan 2021).
TO THE DEVELOPERS/MAINTAINERS OF THE ALL PACKAGE: Please make sure to use the following settings in order to reproduce any error or warning you see on this page. |
Package 11/385 | Hostname | OS / Arch | INSTALL | BUILD | CHECK | ||||||
ALL 1.33.0 Robert Gentleman
| malbec2 | Linux (Ubuntu 20.04.1 LTS) / x86_64 | OK | [ OK ] | OK | ![]() | |||||
riesling1 | Windows Server 2019 Standard / x64 | OK | OK | OK |
Package: ALL |
Version: 1.33.0 |
Command: /home/biocbuild/bbs-3.13-bioc/R/bin/R CMD build --keep-empty-dirs --no-resave-data ALL |
StartedAt: 2021-01-14 10:16:19 -0500 (Thu, 14 Jan 2021) |
EndedAt: 2021-01-14 10:16:34 -0500 (Thu, 14 Jan 2021) |
EllapsedTime: 15.1 seconds |
RetCode: 0 |
Status: OK |
PackageFile: ALL_1.33.0.tar.gz |
PackageFileSize: 10.87 MiB |
############################################################################## ############################################################################## ### ### Running command: ### ### /home/biocbuild/bbs-3.13-bioc/R/bin/R CMD build --keep-empty-dirs --no-resave-data ALL ### ############################################################################## ############################################################################## * checking for file ‘ALL/DESCRIPTION’ ... OK * preparing ‘ALL’: * checking DESCRIPTION meta-information ... OK * installing the package to build vignettes * creating vignettes ... OK * checking for LF line-endings in source and make files and shell scripts * checking for empty or unneeded directories * looking to see if a ‘data/datalist’ file should be added * building ‘ALL_1.33.0.tar.gz’