Back to Multiple platform build/check report for BioC 3.13 experimental data
ABCDEFGHIJKLMNOPQRSTU[V]WXYZ

BUILD report for vulcandata on malbec2

This page was generated on 2021-01-18 15:58:41 -0500 (Mon, 18 Jan 2021).

TO THE DEVELOPERS/MAINTAINERS OF THE vulcandata PACKAGE: Please make sure to use the following settings in order to reproduce any error or warning you see on this page.
Package 375/385HostnameOS / ArchINSTALLBUILDCHECK
vulcandata 1.13.0
Federico M. Giorgi
Snapshot Date: 2021-01-18 09:00:15 -0500 (Mon, 18 Jan 2021)
URL: https://git.bioconductor.org/packages/vulcandata
Branch: master
Last Commit: a487b20
Last Changed Date: 2020-10-27 10:23:27 -0500 (Tue, 27 Oct 2020)
malbec2 Linux (Ubuntu 20.04.1 LTS) / x86_64  OK [ OK ] OK UNNEEDED, same version exists in internal repository
riesling1 Windows Server 2019 Standard / x64  OK  OK  OK 

Summary

Package: vulcandata
Version: 1.13.0
Command: /home/biocbuild/bbs-3.13-bioc/R/bin/R CMD build --keep-empty-dirs --no-resave-data vulcandata
StartedAt: 2021-01-18 11:33:26 -0500 (Mon, 18 Jan 2021)
EndedAt: 2021-01-18 11:34:07 -0500 (Mon, 18 Jan 2021)
EllapsedTime: 40.5 seconds
RetCode: 0
Status:  OK 
PackageFile: vulcandata_1.13.0.tar.gz
PackageFileSize: 44.7 MiB

Command output

##############################################################################
##############################################################################
###
### Running command:
###
###   /home/biocbuild/bbs-3.13-bioc/R/bin/R CMD build --keep-empty-dirs --no-resave-data vulcandata
###
##############################################################################
##############################################################################


* checking for file ‘vulcandata/DESCRIPTION’ ... OK
* preparing ‘vulcandata’:
* checking DESCRIPTION meta-information ... OK
* installing the package to build vignettes
* creating vignettes ... OK
* checking for LF line-endings in source and make files and shell scripts
* checking for empty or unneeded directories
* building ‘vulcandata_1.13.0.tar.gz’