Back to Multiple platform build/check report for BioC 3.13 experimental data |
|
This page was generated on 2021-01-14 15:59:00 -0500 (Thu, 14 Jan 2021).
TO THE DEVELOPERS/MAINTAINERS OF THE FANTOM3and4CAGE PACKAGE: Please make sure to use the following settings in order to reproduce any error or warning you see on this page. |
Package 117/385 | Hostname | OS / Arch | INSTALL | BUILD | CHECK | ||||||
FANTOM3and4CAGE 1.27.0 Vanja Haberle
| malbec2 | Linux (Ubuntu 20.04.1 LTS) / x86_64 | [ OK ] | OK | OK | ![]() | |||||
riesling1 | Windows Server 2019 Standard / x64 | OK | OK | OK |
Package: FANTOM3and4CAGE |
Version: 1.27.0 |
Command: /home/biocbuild/bbs-3.13-bioc/R/bin/R CMD INSTALL FANTOM3and4CAGE |
StartedAt: 2021-01-14 09:50:13 -0500 (Thu, 14 Jan 2021) |
EndedAt: 2021-01-14 09:50:18 -0500 (Thu, 14 Jan 2021) |
EllapsedTime: 5.2 seconds |
RetCode: 0 |
Status: OK |
############################################################################## ############################################################################## ### ### Running command: ### ### /home/biocbuild/bbs-3.13-bioc/R/bin/R CMD INSTALL FANTOM3and4CAGE ### ############################################################################## ############################################################################## * installing to library ‘/home/biocbuild/bbs-3.13-bioc/R/library’ * installing *source* package ‘FANTOM3and4CAGE’ ... ** using staged installation ** data ** help *** installing help indices ** building package indices ** installing vignettes ** testing if installed package can be loaded from temporary location ** testing if installed package can be loaded from final location ** testing if installed package keeps a record of temporary installation path * DONE (FANTOM3and4CAGE)