Back to Multiple platform build/check report for BioC 3.13 experimental data
ABCDEFGHIJKLMNOP[Q]RSTUVWXYZ

INSTALL report for qPLEXdata on malbec2

This page was generated on 2021-01-11 15:59:25 -0500 (Mon, 11 Jan 2021).

TO THE DEVELOPERS/MAINTAINERS OF THE qPLEXdata PACKAGE: Please make sure to use the following settings in order to reproduce any error or warning you see on this page.
Package 286/385HostnameOS / ArchINSTALLBUILDCHECK
qPLEXdata 1.9.0
Kamal Kishore Developer
Snapshot Date: 2021-01-11 09:00:09 -0500 (Mon, 11 Jan 2021)
URL: https://git.bioconductor.org/packages/qPLEXdata
Branch: master
Last Commit: ffaf3d3
Last Changed Date: 2020-10-27 10:27:05 -0500 (Tue, 27 Oct 2020)
malbec2 Linux (Ubuntu 20.04.1 LTS) / x86_64 [ OK ] ERROR  skipped 
riesling1 Windows Server 2019 Standard / x64  OK  ERROR  skipped 

Summary

Package: qPLEXdata
Version: 1.9.0
Command: /home/biocbuild/bbs-3.13-bioc/R/bin/R CMD INSTALL qPLEXdata
StartedAt: 2021-01-11 10:08:17 -0500 (Mon, 11 Jan 2021)
EndedAt: 2021-01-11 10:08:45 -0500 (Mon, 11 Jan 2021)
EllapsedTime: 27.3 seconds
RetCode: 0
Status:  OK 

Command output

##############################################################################
##############################################################################
###
### Running command:
###
###   /home/biocbuild/bbs-3.13-bioc/R/bin/R CMD INSTALL qPLEXdata
###
##############################################################################
##############################################################################


* installing to library ‘/home/biocbuild/bbs-3.13-bioc/R/library’
* installing *source* package ‘qPLEXdata’ ...
** using staged installation
** R
** data
** byte-compile and prepare package for lazy loading
Warning: replacing previous import ‘dplyr::combine’ by ‘MSnbase::combine’ when loading ‘qPLEXdata’
** help
*** installing help indices
** building package indices
** installing vignettes
** testing if installed package can be loaded from temporary location
Warning: replacing previous import ‘dplyr::combine’ by ‘MSnbase::combine’ when loading ‘qPLEXdata’
** testing if installed package can be loaded from final location
Warning: replacing previous import ‘dplyr::combine’ by ‘MSnbase::combine’ when loading ‘qPLEXdata’
** testing if installed package keeps a record of temporary installation path
* DONE (qPLEXdata)