Back to Multiple platform build/check report for BioC 3.13 experimental data
ABCDEFGHIJKLMNOP[Q]RSTUVWXYZ

BUILD report for QUBICdata on malbec2

This page was generated on 2021-01-21 16:01:19 -0500 (Thu, 21 Jan 2021).

TO THE DEVELOPERS/MAINTAINERS OF THE QUBICdata PACKAGE: Please make sure to use the following settings in order to reproduce any error or warning you see on this page.
Package 287/386HostnameOS / ArchINSTALLBUILDCHECK
QUBICdata 1.19.0
Yu Zhang
Snapshot Date: 2021-01-21 09:00:14 -0500 (Thu, 21 Jan 2021)
URL: https://git.bioconductor.org/packages/QUBICdata
Branch: master
Last Commit: 8b1d051
Last Changed Date: 2020-10-27 10:18:59 -0500 (Tue, 27 Oct 2020)
malbec2 Linux (Ubuntu 20.04.1 LTS) / x86_64  OK [ OK ] OK UNNEEDED, same version exists in internal repository
riesling1 Windows Server 2019 Standard / x64  OK  OK  OK 

Summary

Package: QUBICdata
Version: 1.19.0
Command: /home/biocbuild/bbs-3.13-bioc/R/bin/R CMD build --keep-empty-dirs --no-resave-data QUBICdata
StartedAt: 2021-01-21 11:15:28 -0500 (Thu, 21 Jan 2021)
EndedAt: 2021-01-21 11:15:37 -0500 (Thu, 21 Jan 2021)
EllapsedTime: 9.1 seconds
RetCode: 0
Status:  OK 
PackageFile: QUBICdata_1.19.0.tar.gz
PackageFileSize: 9.844 MiB

Command output

##############################################################################
##############################################################################
###
### Running command:
###
###   /home/biocbuild/bbs-3.13-bioc/R/bin/R CMD build --keep-empty-dirs --no-resave-data QUBICdata
###
##############################################################################
##############################################################################


* checking for file ‘QUBICdata/DESCRIPTION’ ... OK
* preparing ‘QUBICdata’:
* checking DESCRIPTION meta-information ... OK
* installing the package to build vignettes
* creating vignettes ... OK
* checking for LF line-endings in source and make files and shell scripts
* checking for empty or unneeded directories
* looking to see if a ‘data/datalist’ file should be added
* building ‘QUBICdata_1.19.0.tar.gz’