Back to Multiple platform build/check report for BioC 3.13 experimental data
ABCDEFGHIJKLMNOPQRSTUV[W]XYZ

BUILD report for WES.1KG.WUGSC on malbec2

This page was generated on 2021-01-18 15:58:41 -0500 (Mon, 18 Jan 2021).

TO THE DEVELOPERS/MAINTAINERS OF THE WES.1KG.WUGSC PACKAGE: Please make sure to use the following settings in order to reproduce any error or warning you see on this page.
Package 376/385HostnameOS / ArchINSTALLBUILDCHECK
WES.1KG.WUGSC 1.23.0
Yuchao Jiang
Snapshot Date: 2021-01-18 09:00:15 -0500 (Mon, 18 Jan 2021)
URL: https://git.bioconductor.org/packages/WES.1KG.WUGSC
Branch: master
Last Commit: 9dfca2c
Last Changed Date: 2020-10-27 10:11:05 -0500 (Tue, 27 Oct 2020)
malbec2 Linux (Ubuntu 20.04.1 LTS) / x86_64  OK [ OK ] OK UNNEEDED, same version exists in internal repository
riesling1 Windows Server 2019 Standard / x64  OK  OK  OK 

Summary

Package: WES.1KG.WUGSC
Version: 1.23.0
Command: /home/biocbuild/bbs-3.13-bioc/R/bin/R CMD build --keep-empty-dirs --no-resave-data WES.1KG.WUGSC
StartedAt: 2021-01-18 11:33:58 -0500 (Mon, 18 Jan 2021)
EndedAt: 2021-01-18 11:35:03 -0500 (Mon, 18 Jan 2021)
EllapsedTime: 65.1 seconds
RetCode: 0
Status:  OK 
PackageFile: WES.1KG.WUGSC_1.23.0.tar.gz
PackageFileSize: 373.2 MiB

Command output

##############################################################################
##############################################################################
###
### Running command:
###
###   /home/biocbuild/bbs-3.13-bioc/R/bin/R CMD build --keep-empty-dirs --no-resave-data WES.1KG.WUGSC
###
##############################################################################
##############################################################################


* checking for file ‘WES.1KG.WUGSC/DESCRIPTION’ ... OK
* preparing ‘WES.1KG.WUGSC’:
* checking DESCRIPTION meta-information ... OK
* installing the package to build vignettes
* creating vignettes ... OK
* checking for LF line-endings in source and make files and shell scripts
* checking for empty or unneeded directories
* building ‘WES.1KG.WUGSC_1.23.0.tar.gz’