Back to Multiple platform build/check report for BioC 3.13 experimental data
A[B]CDEFGHIJKLMNOPQRSTUVWXYZ

CHECK report for BeadArrayUseCases on malbec2

This page was generated on 2021-01-18 15:58:31 -0500 (Mon, 18 Jan 2021).

TO THE DEVELOPERS/MAINTAINERS OF THE BeadArrayUseCases PACKAGE: Please make sure to use the following settings in order to reproduce any error or warning you see on this page.
Package 24/385HostnameOS / ArchINSTALLBUILDCHECK
BeadArrayUseCases 1.29.0
Mike Smith
Snapshot Date: 2021-01-18 09:00:15 -0500 (Mon, 18 Jan 2021)
URL: https://git.bioconductor.org/packages/BeadArrayUseCases
Branch: master
Last Commit: 9416683
Last Changed Date: 2020-10-27 09:54:12 -0500 (Tue, 27 Oct 2020)
malbec2 Linux (Ubuntu 20.04.1 LTS) / x86_64  OK  OK [ OK ]UNNEEDED, same version exists in internal repository
riesling1 Windows Server 2019 Standard / x64  OK  OK  OK 

Summary

Package: BeadArrayUseCases
Version: 1.29.0
Command: /home/biocbuild/bbs-3.13-bioc/R/bin/R CMD check --install=check:BeadArrayUseCases.install-out.txt --library=/home/biocbuild/bbs-3.13-bioc/R/library --no-vignettes --timings BeadArrayUseCases_1.29.0.tar.gz
StartedAt: 2021-01-18 11:38:10 -0500 (Mon, 18 Jan 2021)
EndedAt: 2021-01-18 11:38:55 -0500 (Mon, 18 Jan 2021)
EllapsedTime: 44.8 seconds
RetCode: 0
Status:  OK 
CheckDir: BeadArrayUseCases.Rcheck
Warnings: 0

Command output

##############################################################################
##############################################################################
###
### Running command:
###
###   /home/biocbuild/bbs-3.13-bioc/R/bin/R CMD check --install=check:BeadArrayUseCases.install-out.txt --library=/home/biocbuild/bbs-3.13-bioc/R/library --no-vignettes --timings BeadArrayUseCases_1.29.0.tar.gz
###
##############################################################################
##############################################################################


* using log directory ‘/home/biocbuild/bbs-3.13-data-experiment/meat/BeadArrayUseCases.Rcheck’
* using R Under development (unstable) (2021-01-05 r79797)
* using platform: x86_64-pc-linux-gnu (64-bit)
* using session charset: UTF-8
* using option ‘--no-vignettes’
* checking for file ‘BeadArrayUseCases/DESCRIPTION’ ... OK
* this is package ‘BeadArrayUseCases’ version ‘1.29.0’
* checking package namespace information ... OK
* checking package dependencies ... OK
* checking if this is a source package ... OK
* checking if there is a namespace ... OK
* checking for hidden files and directories ... NOTE
Found the following hidden files and directories:
  .git_fetch_output.txt
  .git_merge_output.txt
These were most likely included in error. See section ‘Package
structure’ in the ‘Writing R Extensions’ manual.
* checking for portable file names ... OK
* checking for sufficient/correct file permissions ... OK
* checking whether package ‘BeadArrayUseCases’ can be installed ... OK
* checking installed package size ... NOTE
  installed size is 276.8Mb
  sub-directories of 1Mb or more:
    extdata  276.7Mb
* checking package directory ... OK
* checking ‘build’ directory ... OK
* checking DESCRIPTION meta-information ... NOTE
Malformed Description field: should contain one or more complete sentences.
* checking top-level files ... OK
* checking for left-over files ... OK
* checking index information ... OK
* checking package subdirectories ... OK
* checking whether the package can be loaded ... OK
* checking whether the package can be loaded with stated dependencies ... OK
* checking whether the package can be unloaded cleanly ... OK
* checking whether the namespace can be loaded with stated dependencies ... OK
* checking whether the namespace can be unloaded cleanly ... OK
* checking files in ‘vignettes’ ... OK
* checking examples ... NONE
* checking for unstated dependencies in vignettes ... OK
* checking package vignettes in ‘inst/doc’ ... OK
* checking running R code from vignettes ... SKIPPED
* checking re-building of vignette outputs ... SKIPPED
* checking PDF version of manual ... OK
* DONE

Status: 3 NOTEs
See
  ‘/home/biocbuild/bbs-3.13-data-experiment/meat/BeadArrayUseCases.Rcheck/00check.log’
for details.



Installation output

BeadArrayUseCases.Rcheck/00install.out

##############################################################################
##############################################################################
###
### Running command:
###
###   /home/biocbuild/bbs-3.13-bioc/R/bin/R CMD INSTALL BeadArrayUseCases
###
##############################################################################
##############################################################################


* installing to library ‘/home/biocbuild/bbs-3.13-bioc/R/library’
* installing *source* package ‘BeadArrayUseCases’ ...
** using staged installation
** inst
** help
No man pages found in package  ‘BeadArrayUseCases’ 
*** installing help indices
** building package indices
** installing vignettes
** testing if installed package can be loaded from temporary location
** testing if installed package can be loaded from final location
** testing if installed package keeps a record of temporary installation path
* DONE (BeadArrayUseCases)

Tests output


Example timings