Back to Multiple platform build/check report for BioC 3.13 experimental data
ABCDEFGHIJKL[M]NOPQRSTUVWXYZ

BUILD report for mammaPrintData on malbec2

This page was generated on 2021-01-14 15:59:03 -0500 (Thu, 14 Jan 2021).

TO THE DEVELOPERS/MAINTAINERS OF THE mammaPrintData PACKAGE: Please make sure to use the following settings in order to reproduce any error or warning you see on this page.
Package 206/385HostnameOS / ArchINSTALLBUILDCHECK
mammaPrintData 1.27.0
Luigi Marchionni
Snapshot Date: 2021-01-14 09:00:13 -0500 (Thu, 14 Jan 2021)
URL: https://git.bioconductor.org/packages/mammaPrintData
Branch: master
Last Commit: c46fc03
Last Changed Date: 2020-10-27 10:02:43 -0500 (Tue, 27 Oct 2020)
malbec2 Linux (Ubuntu 20.04.1 LTS) / x86_64  OK [ OK ] OK UNNEEDED, same version exists in internal repository
riesling1 Windows Server 2019 Standard / x64  OK  OK  OK 

Summary

Package: mammaPrintData
Version: 1.27.0
Command: /home/biocbuild/bbs-3.13-bioc/R/bin/R CMD build --keep-empty-dirs --no-resave-data mammaPrintData
StartedAt: 2021-01-14 11:07:12 -0500 (Thu, 14 Jan 2021)
EndedAt: 2021-01-14 11:08:32 -0500 (Thu, 14 Jan 2021)
EllapsedTime: 80.2 seconds
RetCode: 0
Status:  OK 
PackageFile: mammaPrintData_1.27.0.tar.gz
PackageFileSize: 214.1 MiB

Command output

##############################################################################
##############################################################################
###
### Running command:
###
###   /home/biocbuild/bbs-3.13-bioc/R/bin/R CMD build --keep-empty-dirs --no-resave-data mammaPrintData
###
##############################################################################
##############################################################################


* checking for file ‘mammaPrintData/DESCRIPTION’ ... OK
* preparing ‘mammaPrintData’:
* checking DESCRIPTION meta-information ... OK
* checking whether ‘INDEX’ is up-to-date ... NO
* use ‘--force’ to remove the existing ‘INDEX’
* installing the package to build vignettes
* creating vignettes ... OK
* checking for LF line-endings in source and make files and shell scripts
* checking for empty or unneeded directories
* looking to see if a ‘data/datalist’ file should be added
* building ‘mammaPrintData_1.27.0.tar.gz’