Back to Multiple platform build/check report for BioC 3.13 experimental data
ABCDEFG[H]IJKLMNOPQRSTUVWXYZ

INSTALL report for HelloRangesData on malbec2

This page was generated on 2021-01-21 16:01:12 -0500 (Thu, 21 Jan 2021).

TO THE DEVELOPERS/MAINTAINERS OF THE HelloRangesData PACKAGE: Please make sure to use the following settings in order to reproduce any error or warning you see on this page.
Package 167/386HostnameOS / ArchINSTALLBUILDCHECK
HelloRangesData 1.17.0
Michael Lawrence
Snapshot Date: 2021-01-21 09:00:14 -0500 (Thu, 21 Jan 2021)
URL: https://git.bioconductor.org/packages/HelloRangesData
Branch: master
Last Commit: 1c60d59
Last Changed Date: 2020-10-27 10:21:52 -0500 (Tue, 27 Oct 2020)
malbec2 Linux (Ubuntu 20.04.1 LTS) / x86_64 [ OK ] OK  OK UNNEEDED, same version exists in internal repository
riesling1 Windows Server 2019 Standard / x64  OK  OK  OK 

Summary

Package: HelloRangesData
Version: 1.17.0
Command: /home/biocbuild/bbs-3.13-bioc/R/bin/R CMD INSTALL HelloRangesData
StartedAt: 2021-01-21 09:48:11 -0500 (Thu, 21 Jan 2021)
EndedAt: 2021-01-21 09:48:18 -0500 (Thu, 21 Jan 2021)
EllapsedTime: 7.2 seconds
RetCode: 0
Status:  OK 

Command output

##############################################################################
##############################################################################
###
### Running command:
###
###   /home/biocbuild/bbs-3.13-bioc/R/bin/R CMD INSTALL HelloRangesData
###
##############################################################################
##############################################################################


* installing to library ‘/home/biocbuild/bbs-3.13-bioc/R/library’
* installing *source* package ‘HelloRangesData’ ...
** using staged installation
** inst
** help
No man pages found in package  ‘HelloRangesData’ 
*** installing help indices
** building package indices
** installing vignettes
** testing if installed package can be loaded from temporary location
** testing if installed package can be loaded from final location
** testing if installed package keeps a record of temporary installation path
* DONE (HelloRangesData)