Back to Multiple platform build/check report for BioC 3.13 experimental data |
|
This page was generated on 2021-01-21 16:01:12 -0500 (Thu, 21 Jan 2021).
TO THE DEVELOPERS/MAINTAINERS OF THE hgu133plus2CellScore PACKAGE: Please make sure to use the following settings in order to reproduce any error or warning you see on this page. |
Package 170/386 | Hostname | OS / Arch | INSTALL | BUILD | CHECK | ||||||
hgu133plus2CellScore 1.11.0 Nancy Mah
| malbec2 | Linux (Ubuntu 20.04.1 LTS) / x86_64 | OK | [ OK ] | OK | ![]() | |||||
riesling1 | Windows Server 2019 Standard / x64 | OK | OK | OK |
Package: hgu133plus2CellScore |
Version: 1.11.0 |
Command: /home/biocbuild/bbs-3.13-bioc/R/bin/R CMD build --keep-empty-dirs --no-resave-data hgu133plus2CellScore |
StartedAt: 2021-01-21 10:58:02 -0500 (Thu, 21 Jan 2021) |
EndedAt: 2021-01-21 10:58:34 -0500 (Thu, 21 Jan 2021) |
EllapsedTime: 32.7 seconds |
RetCode: 0 |
Status: OK |
PackageFile: hgu133plus2CellScore_1.11.0.tar.gz |
PackageFileSize: 40.99 MiB |
############################################################################## ############################################################################## ### ### Running command: ### ### /home/biocbuild/bbs-3.13-bioc/R/bin/R CMD build --keep-empty-dirs --no-resave-data hgu133plus2CellScore ### ############################################################################## ############################################################################## * checking for file ‘hgu133plus2CellScore/DESCRIPTION’ ... OK * preparing ‘hgu133plus2CellScore’: * checking DESCRIPTION meta-information ... OK * installing the package to build vignettes * creating vignettes ... OK * checking for LF line-endings in source and make files and shell scripts * checking for empty or unneeded directories * building ‘hgu133plus2CellScore_1.11.0.tar.gz’