Back to Multiple platform build/check report for BioC 3.13 experimental data
ABCDEFGHIJKL[M]NOPQRSTUVWXYZ

INSTALL report for MAQCsubset on malbec2

This page was generated on 2021-01-18 15:58:37 -0500 (Mon, 18 Jan 2021).

TO THE DEVELOPERS/MAINTAINERS OF THE MAQCsubset PACKAGE: Please make sure to use the following settings in order to reproduce any error or warning you see on this page.
Package 209/385HostnameOS / ArchINSTALLBUILDCHECK
MAQCsubset 1.29.0
VJ Carey
Snapshot Date: 2021-01-18 09:00:15 -0500 (Mon, 18 Jan 2021)
URL: https://git.bioconductor.org/packages/MAQCsubset
Branch: master
Last Commit: 9b3813f
Last Changed Date: 2020-10-27 09:46:43 -0500 (Tue, 27 Oct 2020)
malbec2 Linux (Ubuntu 20.04.1 LTS) / x86_64 [ OK ] OK  OK UNNEEDED, same version exists in internal repository
riesling1 Windows Server 2019 Standard / x64  OK  OK  OK 

Summary

Package: MAQCsubset
Version: 1.29.0
Command: /home/biocbuild/bbs-3.13-bioc/R/bin/R CMD INSTALL MAQCsubset
StartedAt: 2021-01-18 10:13:51 -0500 (Mon, 18 Jan 2021)
EndedAt: 2021-01-18 10:14:42 -0500 (Mon, 18 Jan 2021)
EllapsedTime: 51.0 seconds
RetCode: 0
Status:  OK 

Command output

##############################################################################
##############################################################################
###
### Running command:
###
###   /home/biocbuild/bbs-3.13-bioc/R/bin/R CMD INSTALL MAQCsubset
###
##############################################################################
##############################################################################


* installing to library ‘/home/biocbuild/bbs-3.13-bioc/R/library’
* installing *source* package ‘MAQCsubset’ ...
** using staged installation
** R
** data
** byte-compile and prepare package for lazy loading
No methods found in package ‘RSQLite’ for request: ‘dbListFields’ when loading ‘lumi’
** help
*** installing help indices
** building package indices
** installing vignettes
** testing if installed package can be loaded from temporary location
No methods found in package ‘RSQLite’ for request: ‘dbListFields’ when loading ‘lumi’
** testing if installed package can be loaded from final location
No methods found in package ‘RSQLite’ for request: ‘dbListFields’ when loading ‘lumi’
** testing if installed package keeps a record of temporary installation path
* DONE (MAQCsubset)