Back to Multiple platform build/check report for BioC 3.13 experimental data
ABCDEFGHIJKLMNOPQR[S]TUVWXYZ

INSTALL report for SCATEData on malbec2

This page was generated on 2021-01-14 15:59:05 -0500 (Thu, 14 Jan 2021).

TO THE DEVELOPERS/MAINTAINERS OF THE SCATEData PACKAGE: Please make sure to use the following settings in order to reproduce any error or warning you see on this page.
Package 321/385HostnameOS / ArchINSTALLBUILDCHECK
SCATEData 1.1.0
Wenpin Hou
Snapshot Date: 2021-01-14 09:00:13 -0500 (Thu, 14 Jan 2021)
URL: https://git.bioconductor.org/packages/SCATEData
Branch: master
Last Commit: 21918ad
Last Changed Date: 2020-10-27 10:32:09 -0500 (Tue, 27 Oct 2020)
malbec2 Linux (Ubuntu 20.04.1 LTS) / x86_64 [ OK ] OK  OK UNNEEDED, same version exists in internal repository
riesling1 Windows Server 2019 Standard / x64  OK  OK  OK 

Summary

Package: SCATEData
Version: 1.1.0
Command: /home/biocbuild/bbs-3.13-bioc/R/bin/R CMD INSTALL SCATEData
StartedAt: 2021-01-14 10:02:33 -0500 (Thu, 14 Jan 2021)
EndedAt: 2021-01-14 10:03:09 -0500 (Thu, 14 Jan 2021)
EllapsedTime: 35.5 seconds
RetCode: 0
Status:  OK 

Command output

##############################################################################
##############################################################################
###
### Running command:
###
###   /home/biocbuild/bbs-3.13-bioc/R/bin/R CMD INSTALL SCATEData
###
##############################################################################
##############################################################################


* installing to library ‘/home/biocbuild/bbs-3.13-bioc/R/library’
* installing *source* package ‘SCATEData’ ...
** using staged installation
** R
** inst
** byte-compile and prepare package for lazy loading
** help
*** installing help indices
** building package indices
** installing vignettes
** testing if installed package can be loaded from temporary location
snapshotDate(): 2021-01-14
** testing if installed package can be loaded from final location
snapshotDate(): 2021-01-14
** testing if installed package keeps a record of temporary installation path
* DONE (SCATEData)