Back to Multiple platform build/check report for BioC 3.13 experimental data |
|
This page was generated on 2021-01-21 16:01:20 -0500 (Thu, 21 Jan 2021).
TO THE DEVELOPERS/MAINTAINERS OF THE RnBeads.hg38 PACKAGE: Please make sure to use the following settings in order to reproduce any error or warning you see on this page. |
Package 304/386 | Hostname | OS / Arch | INSTALL | BUILD | CHECK | ||||||
RnBeads.hg38 1.23.0 RnBeadsAnnotationCreator
| malbec2 | Linux (Ubuntu 20.04.1 LTS) / x86_64 | [ OK ] | OK | OK | ![]() | |||||
riesling1 | Windows Server 2019 Standard / x64 | OK | OK | OK |
Package: RnBeads.hg38 |
Version: 1.23.0 |
Command: /home/biocbuild/bbs-3.13-bioc/R/bin/R CMD INSTALL RnBeads.hg38 |
StartedAt: 2021-01-21 09:56:58 -0500 (Thu, 21 Jan 2021) |
EndedAt: 2021-01-21 09:57:11 -0500 (Thu, 21 Jan 2021) |
EllapsedTime: 12.7 seconds |
RetCode: 0 |
Status: OK |
############################################################################## ############################################################################## ### ### Running command: ### ### /home/biocbuild/bbs-3.13-bioc/R/bin/R CMD INSTALL RnBeads.hg38 ### ############################################################################## ############################################################################## * installing to library ‘/home/biocbuild/bbs-3.13-bioc/R/library’ * installing *source* package ‘RnBeads.hg38’ ... ** using staged installation ** data ** inst ** help *** installing help indices ** building package indices ** testing if installed package can be loaded from temporary location ** testing if installed package can be loaded from final location ** testing if installed package keeps a record of temporary installation path * DONE (RnBeads.hg38)