Back to Multiple platform build/check report for BioC 3.13 experimental data |
|
This page was generated on 2021-01-21 16:01:23 -0500 (Thu, 21 Jan 2021).
TO THE DEVELOPERS/MAINTAINERS OF THE yri1kgv PACKAGE: Please make sure to use the following settings in order to reproduce any error or warning you see on this page. |
Package 385/386 | Hostname | OS / Arch | INSTALL | BUILD | CHECK | ||||||
VJ Carey
| malbec2 | Linux (Ubuntu 20.04.1 LTS) / x86_64 | ERROR | [ OK ] | ERROR | ||||||
riesling1 | Windows Server 2019 Standard / x64 | ERROR | OK | ERROR |
Package: yri1kgv |
Version: 0.33.1 |
Command: /home/biocbuild/bbs-3.13-bioc/R/bin/R CMD build --keep-empty-dirs --no-resave-data yri1kgv |
StartedAt: 2021-01-21 11:36:45 -0500 (Thu, 21 Jan 2021) |
EndedAt: 2021-01-21 11:37:14 -0500 (Thu, 21 Jan 2021) |
EllapsedTime: 29.0 seconds |
RetCode: 0 |
Status: OK |
PackageFile: yri1kgv_0.33.1.tar.gz |
PackageFileSize: 323.3 MiB |
############################################################################## ############################################################################## ### ### Running command: ### ### /home/biocbuild/bbs-3.13-bioc/R/bin/R CMD build --keep-empty-dirs --no-resave-data yri1kgv ### ############################################################################## ############################################################################## * checking for file ‘yri1kgv/DESCRIPTION’ ... OK * preparing ‘yri1kgv’: * checking DESCRIPTION meta-information ... OK * checking for LF line-endings in source and make files and shell scripts * checking for empty or unneeded directories * looking to see if a ‘data/datalist’ file should be added * building ‘yri1kgv_0.33.1.tar.gz’