Back to Multiple platform build/check report for BioC 3.13 experimental data
ABCDEFGHIJKLMNOPQRSTUVW[X]YZ

INSTALL report for XhybCasneuf on malbec2

This page was generated on 2021-01-14 15:59:06 -0500 (Thu, 14 Jan 2021).

TO THE DEVELOPERS/MAINTAINERS OF THE XhybCasneuf PACKAGE: Please make sure to use the following settings in order to reproduce any error or warning you see on this page.
Package 378/385HostnameOS / ArchINSTALLBUILDCHECK
XhybCasneuf 1.29.0
Tineke Casneuf
Snapshot Date: 2021-01-14 09:00:13 -0500 (Thu, 14 Jan 2021)
URL: https://git.bioconductor.org/packages/XhybCasneuf
Branch: master
Last Commit: e8fd05c
Last Changed Date: 2020-10-27 09:48:27 -0500 (Tue, 27 Oct 2020)
malbec2 Linux (Ubuntu 20.04.1 LTS) / x86_64 [ OK ] OK  WARNINGS UNNEEDED, same version exists in internal repository
riesling1 Windows Server 2019 Standard / x64  OK  OK  WARNINGS 

Summary

Package: XhybCasneuf
Version: 1.29.0
Command: /home/biocbuild/bbs-3.13-bioc/R/bin/R CMD INSTALL XhybCasneuf
StartedAt: 2021-01-14 09:58:18 -0500 (Thu, 14 Jan 2021)
EndedAt: 2021-01-14 09:58:34 -0500 (Thu, 14 Jan 2021)
EllapsedTime: 16.0 seconds
RetCode: 0
Status:  OK 

Command output

##############################################################################
##############################################################################
###
### Running command:
###
###   /home/biocbuild/bbs-3.13-bioc/R/bin/R CMD INSTALL XhybCasneuf
###
##############################################################################
##############################################################################


* installing to library ‘/home/biocbuild/bbs-3.13-bioc/R/library’
* installing *source* package ‘XhybCasneuf’ ...
** using staged installation
** R
** data
** byte-compile and prepare package for lazy loading
Warning messages:
1: replacing previous import ‘AnnotationDbi::tail’ by ‘utils::tail’ when loading ‘ath1121501cdf’ 
2: replacing previous import ‘AnnotationDbi::head’ by ‘utils::head’ when loading ‘ath1121501cdf’ 
** help
*** installing help indices
** building package indices
** installing vignettes
** testing if installed package can be loaded from temporary location
Warning: replacing previous import ‘AnnotationDbi::tail’ by ‘utils::tail’ when loading ‘ath1121501cdf’
Warning: replacing previous import ‘AnnotationDbi::head’ by ‘utils::head’ when loading ‘ath1121501cdf’
** testing if installed package can be loaded from final location
Warning: replacing previous import ‘AnnotationDbi::tail’ by ‘utils::tail’ when loading ‘ath1121501cdf’
Warning: replacing previous import ‘AnnotationDbi::head’ by ‘utils::head’ when loading ‘ath1121501cdf’
** testing if installed package keeps a record of temporary installation path
* DONE (XhybCasneuf)