Back to Multiple platform build/check report for BioC 3.13 experimental data
ABCDE[F]GHIJKLMNOPQRSTUVWXYZ

BUILD report for fission on malbec2

This page was generated on 2021-01-11 15:59:22 -0500 (Mon, 11 Jan 2021).

TO THE DEVELOPERS/MAINTAINERS OF THE fission PACKAGE: Please make sure to use the following settings in order to reproduce any error or warning you see on this page.
Package 122/385HostnameOS / ArchINSTALLBUILDCHECK
fission 1.11.0
Michael Love
Snapshot Date: 2021-01-11 09:00:09 -0500 (Mon, 11 Jan 2021)
URL: https://git.bioconductor.org/packages/fission
Branch: master
Last Commit: dd5d063
Last Changed Date: 2020-10-27 10:09:36 -0500 (Tue, 27 Oct 2020)
malbec2 Linux (Ubuntu 20.04.1 LTS) / x86_64  OK [ OK ] OK UNNEEDED, same version exists in internal repository
riesling1 Windows Server 2019 Standard / x64  OK  OK  OK 

Summary

Package: fission
Version: 1.11.0
Command: /home/biocbuild/bbs-3.13-bioc/R/bin/R CMD build --keep-empty-dirs --no-resave-data fission
StartedAt: 2021-01-11 10:41:35 -0500 (Mon, 11 Jan 2021)
EndedAt: 2021-01-11 10:41:49 -0500 (Mon, 11 Jan 2021)
EllapsedTime: 13.7 seconds
RetCode: 0
Status:  OK 
PackageFile: fission_1.11.0.tar.gz
PackageFileSize: 430.9 KiB

Command output

##############################################################################
##############################################################################
###
### Running command:
###
###   /home/biocbuild/bbs-3.13-bioc/R/bin/R CMD build --keep-empty-dirs --no-resave-data fission
###
##############################################################################
##############################################################################


* checking for file ‘fission/DESCRIPTION’ ... OK
* preparing ‘fission’:
* checking DESCRIPTION meta-information ... OK
* installing the package to build vignettes
* creating vignettes ... OK
* checking for LF line-endings in source and make files and shell scripts
* checking for empty or unneeded directories
* looking to see if a ‘data/datalist’ file should be added
* building ‘fission_1.11.0.tar.gz’