Back to Multiple platform build/check report for BioC 3.13 experimental data |
|
This page was generated on 2021-01-14 15:59:06 -0500 (Thu, 14 Jan 2021).
TO THE DEVELOPERS/MAINTAINERS OF THE TENxPBMCData PACKAGE: Please make sure to use the following settings in order to reproduce any error or warning you see on this page. |
Package 363/385 | Hostname | OS / Arch | INSTALL | BUILD | CHECK | ||||||
TENxPBMCData 1.9.0 Stephanie Hicks
| malbec2 | Linux (Ubuntu 20.04.1 LTS) / x86_64 | OK | [ OK ] | OK | ![]() | |||||
riesling1 | Windows Server 2019 Standard / x64 | OK | OK | OK |
Package: TENxPBMCData |
Version: 1.9.0 |
Command: /home/biocbuild/bbs-3.13-bioc/R/bin/R CMD build --keep-empty-dirs --no-resave-data TENxPBMCData |
StartedAt: 2021-01-14 11:35:16 -0500 (Thu, 14 Jan 2021) |
EndedAt: 2021-01-14 11:36:04 -0500 (Thu, 14 Jan 2021) |
EllapsedTime: 47.4 seconds |
RetCode: 0 |
Status: OK |
PackageFile: TENxPBMCData_1.9.0.tar.gz |
PackageFileSize: 285.1 KiB |
############################################################################## ############################################################################## ### ### Running command: ### ### /home/biocbuild/bbs-3.13-bioc/R/bin/R CMD build --keep-empty-dirs --no-resave-data TENxPBMCData ### ############################################################################## ############################################################################## * checking for file ‘TENxPBMCData/DESCRIPTION’ ... OK * preparing ‘TENxPBMCData’: * checking DESCRIPTION meta-information ... OK * installing the package to build vignettes * creating vignettes ... OK * checking for LF line-endings in source and make files and shell scripts * checking for empty or unneeded directories * building ‘TENxPBMCData_1.9.0.tar.gz’