Back to Multiple platform build/check report for BioC 3.13 experimental data
ABCDEFG[H]IJKLMNOPQRSTUVWXYZ

INSTALL report for harbChIP on malbec2

This page was generated on 2021-01-11 15:59:22 -0500 (Mon, 11 Jan 2021).

TO THE DEVELOPERS/MAINTAINERS OF THE harbChIP PACKAGE: Please make sure to use the following settings in order to reproduce any error or warning you see on this page.
Package 159/385HostnameOS / ArchINSTALLBUILDCHECK
harbChIP 1.29.0
VJ Carey
Snapshot Date: 2021-01-11 09:00:09 -0500 (Mon, 11 Jan 2021)
URL: https://git.bioconductor.org/packages/harbChIP
Branch: master
Last Commit: c4fd961
Last Changed Date: 2020-10-27 09:46:24 -0500 (Tue, 27 Oct 2020)
malbec2 Linux (Ubuntu 20.04.1 LTS) / x86_64 [ OK ] OK  OK UNNEEDED, same version exists in internal repository
riesling1 Windows Server 2019 Standard / x64  OK  OK  OK 

Summary

Package: harbChIP
Version: 1.29.0
Command: /home/biocbuild/bbs-3.13-bioc/R/bin/R CMD INSTALL harbChIP
StartedAt: 2021-01-11 09:57:10 -0500 (Mon, 11 Jan 2021)
EndedAt: 2021-01-11 09:57:28 -0500 (Mon, 11 Jan 2021)
EllapsedTime: 18.5 seconds
RetCode: 0
Status:  OK 

Command output

##############################################################################
##############################################################################
###
### Running command:
###
###   /home/biocbuild/bbs-3.13-bioc/R/bin/R CMD INSTALL harbChIP
###
##############################################################################
##############################################################################


* installing to library ‘/home/biocbuild/bbs-3.13-bioc/R/library’
* installing *source* package ‘harbChIP’ ...
** using staged installation
** R
** data
** byte-compile and prepare package for lazy loading
** help
*** installing help indices
** building package indices
** installing vignettes
** testing if installed package can be loaded from temporary location
** testing if installed package can be loaded from final location
** testing if installed package keeps a record of temporary installation path
* DONE (harbChIP)