Back to Multiple platform build/check report for BioC 3.13 experimental data
ABCDEFGHIJKL[M]NOPQRSTUVWXYZ

BUILD report for mosaicsExample on malbec2

This page was generated on 2021-01-14 15:59:03 -0500 (Thu, 14 Jan 2021).

TO THE DEVELOPERS/MAINTAINERS OF THE mosaicsExample PACKAGE: Please make sure to use the following settings in order to reproduce any error or warning you see on this page.
Package 232/385HostnameOS / ArchINSTALLBUILDCHECK
mosaicsExample 1.29.0
Dongjun Chung
Snapshot Date: 2021-01-14 09:00:13 -0500 (Thu, 14 Jan 2021)
URL: https://git.bioconductor.org/packages/mosaicsExample
Branch: master
Last Commit: 87936e4
Last Changed Date: 2020-10-27 09:52:15 -0500 (Tue, 27 Oct 2020)
malbec2 Linux (Ubuntu 20.04.1 LTS) / x86_64  OK [ OK ] OK UNNEEDED, same version exists in internal repository
riesling1 Windows Server 2019 Standard / x64  OK  OK  OK 

Summary

Package: mosaicsExample
Version: 1.29.0
Command: /home/biocbuild/bbs-3.13-bioc/R/bin/R CMD build --keep-empty-dirs --no-resave-data mosaicsExample
StartedAt: 2021-01-14 11:10:26 -0500 (Thu, 14 Jan 2021)
EndedAt: 2021-01-14 11:10:47 -0500 (Thu, 14 Jan 2021)
EllapsedTime: 21.3 seconds
RetCode: 0
Status:  OK 
PackageFile: mosaicsExample_1.29.0.tar.gz
PackageFileSize: 48.06 MiB

Command output

##############################################################################
##############################################################################
###
### Running command:
###
###   /home/biocbuild/bbs-3.13-bioc/R/bin/R CMD build --keep-empty-dirs --no-resave-data mosaicsExample
###
##############################################################################
##############################################################################


* checking for file ‘mosaicsExample/DESCRIPTION’ ... OK
* preparing ‘mosaicsExample’:
* checking DESCRIPTION meta-information ... OK
* checking for LF line-endings in source and make files and shell scripts
* checking for empty or unneeded directories
* looking to see if a ‘data/datalist’ file should be added
* building ‘mosaicsExample_1.29.0.tar.gz’