Back to Multiple platform build/check report for BioC 3.13 experimental data |
|
This page was generated on 2021-01-21 16:01:07 -0500 (Thu, 21 Jan 2021).
TO THE DEVELOPERS/MAINTAINERS OF THE diggitdata PACKAGE: Please make sure to use the following settings in order to reproduce any error or warning you see on this page. |
Package 94/386 | Hostname | OS / Arch | INSTALL | BUILD | CHECK | ||||||
diggitdata 1.23.0 Mariano Javier Alvarez
| malbec2 | Linux (Ubuntu 20.04.1 LTS) / x86_64 | [ OK ] | OK | OK | ![]() | |||||
riesling1 | Windows Server 2019 Standard / x64 | OK | OK | OK |
Package: diggitdata |
Version: 1.23.0 |
Command: /home/biocbuild/bbs-3.13-bioc/R/bin/R CMD INSTALL diggitdata |
StartedAt: 2021-01-21 10:01:50 -0500 (Thu, 21 Jan 2021) |
EndedAt: 2021-01-21 10:01:57 -0500 (Thu, 21 Jan 2021) |
EllapsedTime: 7.3 seconds |
RetCode: 0 |
Status: OK |
############################################################################## ############################################################################## ### ### Running command: ### ### /home/biocbuild/bbs-3.13-bioc/R/bin/R CMD INSTALL diggitdata ### ############################################################################## ############################################################################## * installing to library ‘/home/biocbuild/bbs-3.13-bioc/R/library’ * installing *source* package ‘diggitdata’ ... ** using staged installation ** data ** help *** installing help indices ** building package indices ** installing vignettes ** testing if installed package can be loaded from temporary location ** testing if installed package can be loaded from final location ** testing if installed package keeps a record of temporary installation path * DONE (diggitdata)