Back to Multiple platform build/check report for BioC 3.13 experimental data
A[B]CDEFGHIJKLMNOPQRSTUVWXYZ

INSTALL report for benchmarkfdrData2019 on malbec2

This page was generated on 2021-01-14 15:58:57 -0500 (Thu, 14 Jan 2021).

TO THE DEVELOPERS/MAINTAINERS OF THE benchmarkfdrData2019 PACKAGE: Please make sure to use the following settings in order to reproduce any error or warning you see on this page.
Package 25/385HostnameOS / ArchINSTALLBUILDCHECK
benchmarkfdrData2019 1.5.0
Stephanie Hicks
Snapshot Date: 2021-01-14 09:00:13 -0500 (Thu, 14 Jan 2021)
URL: https://git.bioconductor.org/packages/benchmarkfdrData2019
Branch: master
Last Commit: 259eb05
Last Changed Date: 2020-10-27 10:30:09 -0500 (Tue, 27 Oct 2020)
malbec2 Linux (Ubuntu 20.04.1 LTS) / x86_64 [ OK ] OK  OK UNNEEDED, same version exists in internal repository
riesling1 Windows Server 2019 Standard / x64  OK  OK  OK 

Summary

Package: benchmarkfdrData2019
Version: 1.5.0
Command: /home/biocbuild/bbs-3.13-bioc/R/bin/R CMD INSTALL benchmarkfdrData2019
StartedAt: 2021-01-14 10:02:12 -0500 (Thu, 14 Jan 2021)
EndedAt: 2021-01-14 10:02:50 -0500 (Thu, 14 Jan 2021)
EllapsedTime: 37.9 seconds
RetCode: 0
Status:  OK 

Command output

##############################################################################
##############################################################################
###
### Running command:
###
###   /home/biocbuild/bbs-3.13-bioc/R/bin/R CMD INSTALL benchmarkfdrData2019
###
##############################################################################
##############################################################################


* installing to library ‘/home/biocbuild/bbs-3.13-bioc/R/library’
* installing *source* package ‘benchmarkfdrData2019’ ...
** using staged installation
** R
** inst
** byte-compile and prepare package for lazy loading
** help
*** installing help indices
** building package indices
** installing vignettes
** testing if installed package can be loaded from temporary location
snapshotDate(): 2021-01-14
** testing if installed package can be loaded from final location
snapshotDate(): 2021-01-14
** testing if installed package keeps a record of temporary installation path
* DONE (benchmarkfdrData2019)