Back to Multiple platform build/check report for BioC 3.13 experimental data
ABC[D]EFGHIJKLMNOPQRSTUVWXYZ

INSTALL report for DonaPLLP2013 on malbec2

This page was generated on 2021-01-11 15:59:21 -0500 (Mon, 11 Jan 2021).

TO THE DEVELOPERS/MAINTAINERS OF THE DonaPLLP2013 PACKAGE: Please make sure to use the following settings in order to reproduce any error or warning you see on this page.
Package 98/385HostnameOS / ArchINSTALLBUILDCHECK
DonaPLLP2013 1.29.0
Joseph D. Barry
Snapshot Date: 2021-01-11 09:00:09 -0500 (Mon, 11 Jan 2021)
URL: https://git.bioconductor.org/packages/DonaPLLP2013
Branch: master
Last Commit: f64b1ee
Last Changed Date: 2020-10-27 10:04:32 -0500 (Tue, 27 Oct 2020)
malbec2 Linux (Ubuntu 20.04.1 LTS) / x86_64 [ OK ] OK  OK UNNEEDED, same version exists in internal repository
riesling1 Windows Server 2019 Standard / x64  OK  OK  OK 

Summary

Package: DonaPLLP2013
Version: 1.29.0
Command: /home/biocbuild/bbs-3.13-bioc/R/bin/R CMD INSTALL DonaPLLP2013
StartedAt: 2021-01-11 09:55:34 -0500 (Mon, 11 Jan 2021)
EndedAt: 2021-01-11 09:55:48 -0500 (Mon, 11 Jan 2021)
EllapsedTime: 14.0 seconds
RetCode: 0
Status:  OK 

Command output

##############################################################################
##############################################################################
###
### Running command:
###
###   /home/biocbuild/bbs-3.13-bioc/R/bin/R CMD INSTALL DonaPLLP2013
###
##############################################################################
##############################################################################


* installing to library ‘/home/biocbuild/bbs-3.13-bioc/R/library’
* installing *source* package ‘DonaPLLP2013’ ...
** using staged installation
** data
** inst
** help
*** installing help indices
** building package indices
** installing vignettes
** testing if installed package can be loaded from temporary location
** testing if installed package can be loaded from final location
** testing if installed package keeps a record of temporary installation path
* DONE (DonaPLLP2013)