Back to Multiple platform build/check report for BioC 3.13 experimental data
ABCDEFGHIJKLMNOP[Q]RSTUVWXYZ

INSTALL report for QDNAseq.hg19 on malbec2

This page was generated on 2021-01-14 15:59:04 -0500 (Thu, 14 Jan 2021).

TO THE DEVELOPERS/MAINTAINERS OF THE QDNAseq.hg19 PACKAGE: Please make sure to use the following settings in order to reproduce any error or warning you see on this page.
Package 284/385HostnameOS / ArchINSTALLBUILDCHECK
QDNAseq.hg19 1.21.0
Daoud Sie
Snapshot Date: 2021-01-14 09:00:13 -0500 (Thu, 14 Jan 2021)
URL: https://git.bioconductor.org/packages/QDNAseq.hg19
Branch: master
Last Commit: ee8d568
Last Changed Date: 2020-10-27 10:14:40 -0500 (Tue, 27 Oct 2020)
malbec2 Linux (Ubuntu 20.04.1 LTS) / x86_64 [ OK ] OK  OK UNNEEDED, same version exists in internal repository
riesling1 Windows Server 2019 Standard / x64  OK  OK  OK 

Summary

Package: QDNAseq.hg19
Version: 1.21.0
Command: /home/biocbuild/bbs-3.13-bioc/R/bin/R CMD INSTALL QDNAseq.hg19
StartedAt: 2021-01-14 09:59:18 -0500 (Thu, 14 Jan 2021)
EndedAt: 2021-01-14 09:59:52 -0500 (Thu, 14 Jan 2021)
EllapsedTime: 34.6 seconds
RetCode: 0
Status:  OK 

Command output

##############################################################################
##############################################################################
###
### Running command:
###
###   /home/biocbuild/bbs-3.13-bioc/R/bin/R CMD INSTALL QDNAseq.hg19
###
##############################################################################
##############################################################################


* installing to library ‘/home/biocbuild/bbs-3.13-bioc/R/library’
* installing *source* package ‘QDNAseq.hg19’ ...
** using staged installation
** R
** data
** byte-compile and prepare package for lazy loading
** help
*** installing help indices
** building package indices
** testing if installed package can be loaded from temporary location
** testing if installed package can be loaded from final location
** testing if installed package keeps a record of temporary installation path
* DONE (QDNAseq.hg19)