Back to Multiple platform build/check report for BioC 3.13 experimental data
AB[C]DEFGHIJKLMNOPQRSTUVWXYZ

BUILD report for chipenrich.data on malbec2

This page was generated on 2021-01-21 16:01:04 -0500 (Thu, 21 Jan 2021).

TO THE DEVELOPERS/MAINTAINERS OF THE chipenrich.data PACKAGE: Please make sure to use the following settings in order to reproduce any error or warning you see on this page.
Package 59/386HostnameOS / ArchINSTALLBUILDCHECK
chipenrich.data 2.15.0
Raymond G. Cavalcante
Snapshot Date: 2021-01-21 09:00:14 -0500 (Thu, 21 Jan 2021)
URL: https://git.bioconductor.org/packages/chipenrich.data
Branch: master
Last Commit: 3a67788
Last Changed Date: 2020-10-27 10:05:31 -0500 (Tue, 27 Oct 2020)
malbec2 Linux (Ubuntu 20.04.1 LTS) / x86_64  OK [ OK ] OK UNNEEDED, same version exists in internal repository
riesling1 Windows Server 2019 Standard / x64  OK  OK  OK 

Summary

Package: chipenrich.data
Version: 2.15.0
Command: /home/biocbuild/bbs-3.13-bioc/R/bin/R CMD build --keep-empty-dirs --no-resave-data chipenrich.data
StartedAt: 2021-01-21 10:26:40 -0500 (Thu, 21 Jan 2021)
EndedAt: 2021-01-21 10:29:16 -0500 (Thu, 21 Jan 2021)
EllapsedTime: 156.3 seconds
RetCode: 0
Status:  OK 
PackageFile: chipenrich.data_2.15.0.tar.gz
PackageFileSize: 73.41 MiB

Command output

##############################################################################
##############################################################################
###
### Running command:
###
###   /home/biocbuild/bbs-3.13-bioc/R/bin/R CMD build --keep-empty-dirs --no-resave-data chipenrich.data
###
##############################################################################
##############################################################################


* checking for file ‘chipenrich.data/DESCRIPTION’ ... OK
* preparing ‘chipenrich.data’:
* checking DESCRIPTION meta-information ... OK
* installing the package to build vignettes
* creating vignettes ... OK
Warning: ‘inst/doc’ files
    ‘chipenrich.data-vignette.Rmd’, ‘chipenrich.data-vignette.html’,  ‘chipenrich.data-vignette.R’
  ignored as vignettes have been rebuilt.
  Run R CMD build with --no-build-vignettes to prevent rebuilding.
* checking for LF line-endings in source and make files and shell scripts
* checking for empty or unneeded directories
* building ‘chipenrich.data_2.15.0.tar.gz’