Back to Multiple platform build/check report for BioC 3.13 experimental data
ABC[D]EFGHIJKLMNOPQRSTUVWXYZ

INSTALL report for dsQTL on malbec2

This page was generated on 2021-01-11 15:59:21 -0500 (Mon, 11 Jan 2021).

TO THE DEVELOPERS/MAINTAINERS OF THE dsQTL PACKAGE: Please make sure to use the following settings in order to reproduce any error or warning you see on this page.
Package 104/385HostnameOS / ArchINSTALLBUILDCHECK
dsQTL 0.29.1
VJ Carey
Snapshot Date: 2021-01-11 09:00:09 -0500 (Mon, 11 Jan 2021)
URL: https://git.bioconductor.org/packages/dsQTL
Branch: master
Last Commit: a8e3bdb
Last Changed Date: 2020-11-30 08:23:04 -0500 (Mon, 30 Nov 2020)
malbec2 Linux (Ubuntu 20.04.1 LTS) / x86_64 [ ERROR ] ERROR  skipped 
riesling1 Windows Server 2019 Standard / x64  ERROR  ERROR  skipped 

Summary

Package: dsQTL
Version: 0.29.1
Command: /home/biocbuild/bbs-3.13-bioc/R/bin/R CMD INSTALL dsQTL
StartedAt: 2021-01-11 10:15:26 -0500 (Mon, 11 Jan 2021)
EndedAt: 2021-01-11 10:15:27 -0500 (Mon, 11 Jan 2021)
EllapsedTime: 0.5 seconds
RetCode: 1
Status:  ERROR 

Command output

##############################################################################
##############################################################################
###
### Running command:
###
###   /home/biocbuild/bbs-3.13-bioc/R/bin/R CMD INSTALL dsQTL
###
##############################################################################
##############################################################################


* installing to library ‘/home/biocbuild/bbs-3.13-bioc/R/library’
ERROR: dependency ‘GGBase’ is not available for package ‘dsQTL’
* removing ‘/home/biocbuild/bbs-3.13-bioc/R/library/dsQTL’