Back to Multiple platform build/check report for BioC 3.13 experimental data |
|
This page was generated on 2021-01-21 16:01:14 -0500 (Thu, 21 Jan 2021).
TO THE DEVELOPERS/MAINTAINERS OF THE MetaGxPancreas PACKAGE: Please make sure to use the following settings in order to reproduce any error or warning you see on this page. |
Package 218/386 | Hostname | OS / Arch | INSTALL | BUILD | CHECK | ||||||
MetaGxPancreas 1.11.0 Michael Zon
| malbec2 | Linux (Ubuntu 20.04.1 LTS) / x86_64 | OK | [ OK ] | OK | ![]() | |||||
riesling1 | Windows Server 2019 Standard / x64 | OK | OK | OK |
Package: MetaGxPancreas |
Version: 1.11.0 |
Command: /home/biocbuild/bbs-3.13-bioc/R/bin/R CMD build --keep-empty-dirs --no-resave-data MetaGxPancreas |
StartedAt: 2021-01-21 11:06:19 -0500 (Thu, 21 Jan 2021) |
EndedAt: 2021-01-21 11:07:44 -0500 (Thu, 21 Jan 2021) |
EllapsedTime: 84.6 seconds |
RetCode: 0 |
Status: OK |
PackageFile: MetaGxPancreas_1.11.0.tar.gz |
PackageFileSize: 16.94 KiB |
############################################################################## ############################################################################## ### ### Running command: ### ### /home/biocbuild/bbs-3.13-bioc/R/bin/R CMD build --keep-empty-dirs --no-resave-data MetaGxPancreas ### ############################################################################## ############################################################################## * checking for file ‘MetaGxPancreas/DESCRIPTION’ ... OK * preparing ‘MetaGxPancreas’: * checking DESCRIPTION meta-information ... OK * installing the package to build vignettes * creating vignettes ... OK * checking for LF line-endings in source and make files and shell scripts * checking for empty or unneeded directories * building ‘MetaGxPancreas_1.11.0.tar.gz’