Back to Multiple platform build/check report for BioC 3.13 experimental data
AB[C]DEFGHIJKLMNOPQRSTUVWXYZ

BUILD report for CopyNeutralIMA on malbec2

This page was generated on 2021-01-18 15:58:32 -0500 (Mon, 18 Jan 2021).

TO THE DEVELOPERS/MAINTAINERS OF THE CopyNeutralIMA PACKAGE: Please make sure to use the following settings in order to reproduce any error or warning you see on this page.
Package 76/385HostnameOS / ArchINSTALLBUILDCHECK
CopyNeutralIMA 1.9.0
Xavier Pastor Hostench
Snapshot Date: 2021-01-18 09:00:15 -0500 (Mon, 18 Jan 2021)
URL: https://git.bioconductor.org/packages/CopyNeutralIMA
Branch: master
Last Commit: b9ed464
Last Changed Date: 2020-10-27 10:27:13 -0500 (Tue, 27 Oct 2020)
malbec2 Linux (Ubuntu 20.04.1 LTS) / x86_64  OK [ OK ] OK UNNEEDED, same version exists in internal repository
riesling1 Windows Server 2019 Standard / x64  OK  OK  OK 

Summary

Package: CopyNeutralIMA
Version: 1.9.0
Command: /home/biocbuild/bbs-3.13-bioc/R/bin/R CMD build --keep-empty-dirs --no-resave-data CopyNeutralIMA
StartedAt: 2021-01-18 10:30:08 -0500 (Mon, 18 Jan 2021)
EndedAt: 2021-01-18 10:33:38 -0500 (Mon, 18 Jan 2021)
EllapsedTime: 210.8 seconds
RetCode: 0
Status:  OK 
PackageFile: CopyNeutralIMA_1.9.0.tar.gz
PackageFileSize: 536.3 KiB

Command output

##############################################################################
##############################################################################
###
### Running command:
###
###   /home/biocbuild/bbs-3.13-bioc/R/bin/R CMD build --keep-empty-dirs --no-resave-data CopyNeutralIMA
###
##############################################################################
##############################################################################


* checking for file ‘CopyNeutralIMA/DESCRIPTION’ ... OK
* preparing ‘CopyNeutralIMA’:
* checking DESCRIPTION meta-information ... OK
* installing the package to process help pages
Loading required namespace: CopyNeutralIMA
* saving partial Rd database
* creating vignettes ... OK
* checking for LF line-endings in source and make files and shell scripts
* checking for empty or unneeded directories
* building ‘CopyNeutralIMA_1.9.0.tar.gz’