Back to Multiple platform build/check report for BioC 3.13 experimental data
ABCDEFGHIJKLMNOPQRS[T]UVWXYZ

INSTALL report for TargetScoreData on malbec2

This page was generated on 2021-01-14 15:59:06 -0500 (Thu, 14 Jan 2021).

TO THE DEVELOPERS/MAINTAINERS OF THE TargetScoreData PACKAGE: Please make sure to use the following settings in order to reproduce any error or warning you see on this page.
Package 351/385HostnameOS / ArchINSTALLBUILDCHECK
TargetScoreData 1.27.0
Yue Li
Snapshot Date: 2021-01-14 09:00:13 -0500 (Thu, 14 Jan 2021)
URL: https://git.bioconductor.org/packages/TargetScoreData
Branch: master
Last Commit: bb9c487
Last Changed Date: 2020-10-27 10:04:44 -0500 (Tue, 27 Oct 2020)
malbec2 Linux (Ubuntu 20.04.1 LTS) / x86_64 [ OK ] OK  OK UNNEEDED, same version exists in internal repository
riesling1 Windows Server 2019 Standard / x64  OK  OK  OK 

Summary

Package: TargetScoreData
Version: 1.27.0
Command: /home/biocbuild/bbs-3.13-bioc/R/bin/R CMD INSTALL TargetScoreData
StartedAt: 2021-01-14 09:51:56 -0500 (Thu, 14 Jan 2021)
EndedAt: 2021-01-14 09:52:12 -0500 (Thu, 14 Jan 2021)
EllapsedTime: 15.8 seconds
RetCode: 0
Status:  OK 

Command output

##############################################################################
##############################################################################
###
### Running command:
###
###   /home/biocbuild/bbs-3.13-bioc/R/bin/R CMD INSTALL TargetScoreData
###
##############################################################################
##############################################################################


* installing to library ‘/home/biocbuild/bbs-3.13-bioc/R/library’
* installing *source* package ‘TargetScoreData’ ...
** using staged installation
** R
** inst
** byte-compile and prepare package for lazy loading
** help
*** installing help indices
** building package indices
** installing vignettes
** testing if installed package can be loaded from temporary location
** testing if installed package can be loaded from final location
** testing if installed package keeps a record of temporary installation path
* DONE (TargetScoreData)