Back to Build/check report for BioC 3.13 experimental data
A[B]CDEFGHIJKLMNOPQRSTUVWXYZ

This page was generated on 2021-09-14 15:58:45 -0400 (Tue, 14 Sep 2021).

All results for package beadarrayExampleData

To the developers/maintainers of the beadarrayExampleData package:
Make sure to use the following settings in order to reproduce any error or warning you see on this page.

raw results

Package 23/406HostnameOS / ArchINSTALLBUILDCHECK
beadarrayExampleData 1.30.0  (landing page)
Mark Dunning
Snapshot Date: 2021-09-14 09:30:10 -0400 (Tue, 14 Sep 2021)
URL: https://git.bioconductor.org/packages/beadarrayExampleData
Branch: RELEASE_3_13
Last Commit: d2bee01
Last Changed Date: 2021-05-19 11:32:46 -0400 (Wed, 19 May 2021)
malbec2Linux (Ubuntu 20.04.2 LTS) / x86_64  OK    OK    OK  UNNEEDED, same version is already published