Back to Multiple platform build/check report for BioC 3.13 experimental data
[A]BCDEFGHIJKLMNOPQRSTUVWXYZ

BUILD report for ABAData on malbec2

This page was generated on 2021-01-18 15:58:30 -0500 (Mon, 18 Jan 2021).

TO THE DEVELOPERS/MAINTAINERS OF THE ABAData PACKAGE: Please make sure to use the following settings in order to reproduce any error or warning you see on this page.
Package 1/385HostnameOS / ArchINSTALLBUILDCHECK
ABAData 1.21.0
Steffi Grote
Snapshot Date: 2021-01-18 09:00:15 -0500 (Mon, 18 Jan 2021)
URL: https://git.bioconductor.org/packages/ABAData
Branch: master
Last Commit: 7550693
Last Changed Date: 2020-10-27 10:13:41 -0500 (Tue, 27 Oct 2020)
malbec2 Linux (Ubuntu 20.04.1 LTS) / x86_64  OK [ OK ] OK UNNEEDED, same version exists in internal repository
riesling1 Windows Server 2019 Standard / x64  OK  OK  OK 

Summary

Package: ABAData
Version: 1.21.0
Command: /home/biocbuild/bbs-3.13-bioc/R/bin/R CMD build --keep-empty-dirs --no-resave-data ABAData
StartedAt: 2021-01-18 10:17:08 -0500 (Mon, 18 Jan 2021)
EndedAt: 2021-01-18 10:17:35 -0500 (Mon, 18 Jan 2021)
EllapsedTime: 26.8 seconds
RetCode: 0
Status:  OK 
PackageFile: ABAData_1.21.0.tar.gz
PackageFileSize: 57.89 MiB

Command output

##############################################################################
##############################################################################
###
### Running command:
###
###   /home/biocbuild/bbs-3.13-bioc/R/bin/R CMD build --keep-empty-dirs --no-resave-data ABAData
###
##############################################################################
##############################################################################


* checking for file ‘ABAData/DESCRIPTION’ ... OK
* preparing ‘ABAData’:
* checking DESCRIPTION meta-information ... OK
* installing the package to build vignettes
* creating vignettes ... OK
* checking for LF line-endings in source and make files and shell scripts
* checking for empty or unneeded directories
* looking to see if a ‘data/datalist’ file should be added
* building ‘ABAData_1.21.0.tar.gz’