Back to Multiple platform build/check report for BioC 3.13 experimental data
ABCDE[F]GHIJKLMNOPQRSTUVWXYZ

INSTALL report for facsDorit on malbec2

This page was generated on 2021-01-21 16:01:09 -0500 (Thu, 21 Jan 2021).

TO THE DEVELOPERS/MAINTAINERS OF THE facsDorit PACKAGE: Please make sure to use the following settings in order to reproduce any error or warning you see on this page.
Package 116/386HostnameOS / ArchINSTALLBUILDCHECK
facsDorit 1.33.1
Florian Hahne
Snapshot Date: 2021-01-21 09:00:14 -0500 (Thu, 21 Jan 2021)
URL: https://git.bioconductor.org/packages/facsDorit
Branch: master
Last Commit: 5f31c45
Last Changed Date: 2020-11-30 08:24:02 -0500 (Mon, 30 Nov 2020)
malbec2 Linux (Ubuntu 20.04.1 LTS) / x86_64 [ ERROR ] OK  ERROR 
riesling1 Windows Server 2019 Standard / x64  ERROR  OK  ERROR 

Summary

Package: facsDorit
Version: 1.33.1
Command: /home/biocbuild/bbs-3.13-bioc/R/bin/R CMD INSTALL facsDorit
StartedAt: 2021-01-21 10:16:02 -0500 (Thu, 21 Jan 2021)
EndedAt: 2021-01-21 10:16:02 -0500 (Thu, 21 Jan 2021)
EllapsedTime: 0.3 seconds
RetCode: 1
Status:  ERROR 

Command output

##############################################################################
##############################################################################
###
### Running command:
###
###   /home/biocbuild/bbs-3.13-bioc/R/bin/R CMD INSTALL facsDorit
###
##############################################################################
##############################################################################


* installing to library ‘/home/biocbuild/bbs-3.13-bioc/R/library’
ERROR: dependency ‘prada’ is not available for package ‘facsDorit’
* removing ‘/home/biocbuild/bbs-3.13-bioc/R/library/facsDorit’