Back to Multiple platform build/check report for BioC 3.13 experimental data
[A]BCDEFGHIJKLMNOPQRSTUVWXYZ

BUILD report for alpineData on malbec2

This page was generated on 2021-01-21 16:01:01 -0500 (Thu, 21 Jan 2021).

TO THE DEVELOPERS/MAINTAINERS OF THE alpineData PACKAGE: Please make sure to use the following settings in order to reproduce any error or warning you see on this page.
Package 13/386HostnameOS / ArchINSTALLBUILDCHECK
alpineData 1.17.0
Michael Love
Snapshot Date: 2021-01-21 09:00:14 -0500 (Thu, 21 Jan 2021)
URL: https://git.bioconductor.org/packages/alpineData
Branch: master
Last Commit: e1c33cf
Last Changed Date: 2020-10-27 10:21:31 -0500 (Tue, 27 Oct 2020)
malbec2 Linux (Ubuntu 20.04.1 LTS) / x86_64  OK [ OK ] OK UNNEEDED, same version exists in internal repository
riesling1 Windows Server 2019 Standard / x64  OK  OK  OK 

Summary

Package: alpineData
Version: 1.17.0
Command: /home/biocbuild/bbs-3.13-bioc/R/bin/R CMD build --keep-empty-dirs --no-resave-data alpineData
StartedAt: 2021-01-21 10:18:02 -0500 (Thu, 21 Jan 2021)
EndedAt: 2021-01-21 10:19:14 -0500 (Thu, 21 Jan 2021)
EllapsedTime: 72.4 seconds
RetCode: 0
Status:  OK 
PackageFile: alpineData_1.17.0.tar.gz
PackageFileSize: 22.25 KiB

Command output

##############################################################################
##############################################################################
###
### Running command:
###
###   /home/biocbuild/bbs-3.13-bioc/R/bin/R CMD build --keep-empty-dirs --no-resave-data alpineData
###
##############################################################################
##############################################################################


* checking for file ‘alpineData/DESCRIPTION’ ... OK
* preparing ‘alpineData’:
* checking DESCRIPTION meta-information ... OK
* installing the package to build vignettes
* creating vignettes ... OK
* checking for LF line-endings in source and make files and shell scripts
* checking for empty or unneeded directories
* building ‘alpineData_1.17.0.tar.gz’