Back to Multiple platform build/check report for BioC 3.13 experimental data |
|
This page was generated on 2021-01-21 16:01:17 -0500 (Thu, 21 Jan 2021).
TO THE DEVELOPERS/MAINTAINERS OF THE PepsNMRData PACKAGE: Please make sure to use the following settings in order to reproduce any error or warning you see on this page. |
Package 264/386 | Hostname | OS / Arch | INSTALL | BUILD | CHECK | ||||||
PepsNMRData 1.9.0 Manon Martin
| malbec2 | Linux (Ubuntu 20.04.1 LTS) / x86_64 | OK | OK | [ OK ] | ![]() | |||||
riesling1 | Windows Server 2019 Standard / x64 | OK | OK | OK |
Package: PepsNMRData |
Version: 1.9.0 |
Command: /home/biocbuild/bbs-3.13-bioc/R/bin/R CMD check --install=check:PepsNMRData.install-out.txt --library=/home/biocbuild/bbs-3.13-bioc/R/library --no-vignettes --timings PepsNMRData_1.9.0.tar.gz |
StartedAt: 2021-01-21 12:31:34 -0500 (Thu, 21 Jan 2021) |
EndedAt: 2021-01-21 12:31:58 -0500 (Thu, 21 Jan 2021) |
EllapsedTime: 24.0 seconds |
RetCode: 0 |
Status: OK |
CheckDir: PepsNMRData.Rcheck |
Warnings: 0 |
############################################################################## ############################################################################## ### ### Running command: ### ### /home/biocbuild/bbs-3.13-bioc/R/bin/R CMD check --install=check:PepsNMRData.install-out.txt --library=/home/biocbuild/bbs-3.13-bioc/R/library --no-vignettes --timings PepsNMRData_1.9.0.tar.gz ### ############################################################################## ############################################################################## * using log directory ‘/home/biocbuild/bbs-3.13-data-experiment/meat/PepsNMRData.Rcheck’ * using R Under development (unstable) (2021-01-05 r79797) * using platform: x86_64-pc-linux-gnu (64-bit) * using session charset: UTF-8 * using option ‘--no-vignettes’ * checking for file ‘PepsNMRData/DESCRIPTION’ ... OK * checking extension type ... Package * this is package ‘PepsNMRData’ version ‘1.9.0’ * package encoding: UTF-8 * checking package namespace information ... OK * checking package dependencies ... OK * checking if this is a source package ... OK * checking if there is a namespace ... OK * checking for hidden files and directories ... NOTE Found the following hidden files and directories: .git_fetch_output.txt .git_merge_output.txt These were most likely included in error. See section ‘Package structure’ in the ‘Writing R Extensions’ manual. * checking for portable file names ... OK * checking for sufficient/correct file permissions ... OK * checking whether package ‘PepsNMRData’ can be installed ... OK * checking installed package size ... NOTE installed size is 57.2Mb sub-directories of 1Mb or more: data 47.8Mb extdata 9.3Mb * checking package directory ... OK * checking DESCRIPTION meta-information ... OK * checking top-level files ... OK * checking for left-over files ... OK * checking index information ... OK * checking package subdirectories ... OK * checking whether the package can be loaded ... OK * checking whether the package can be loaded with stated dependencies ... OK * checking whether the package can be unloaded cleanly ... OK * checking whether the namespace can be loaded with stated dependencies ... OK * checking whether the namespace can be unloaded cleanly ... OK * checking Rd files ... OK * checking Rd metadata ... OK * checking Rd cross-references ... OK * checking for missing documentation entries ... OK * checking for code/documentation mismatches ... OK * checking Rd \usage sections ... OK * checking Rd contents ... OK * checking for unstated dependencies in examples ... OK * checking contents of ‘data’ directory ... OK * checking data for non-ASCII characters ... OK * checking data for ASCII and uncompressed saves ... OK * checking examples ... OK * checking PDF version of manual ... OK * DONE Status: 2 NOTEs See ‘/home/biocbuild/bbs-3.13-data-experiment/meat/PepsNMRData.Rcheck/00check.log’ for details.
PepsNMRData.Rcheck/00install.out
############################################################################## ############################################################################## ### ### Running command: ### ### /home/biocbuild/bbs-3.13-bioc/R/bin/R CMD INSTALL PepsNMRData ### ############################################################################## ############################################################################## * installing to library ‘/home/biocbuild/bbs-3.13-bioc/R/library’ * installing *source* package ‘PepsNMRData’ ... ** using staged installation ** data *** moving datasets to lazyload DB ** inst ** help *** installing help indices ** building package indices ** testing if installed package can be loaded from temporary location ** testing if installed package can be loaded from final location ** testing if installed package keeps a record of temporary installation path * DONE (PepsNMRData)
PepsNMRData.Rcheck/PepsNMRData-Ex.timings
name | user | system | elapsed | |
Data_HS_sp | 0.485 | 0.039 | 1.093 | |
Data_HU_sp | 0.491 | 0.049 | 1.042 | |
FidData_HS | 0.260 | 0.008 | 0.580 | |
FidData_HU | 0.155 | 0.008 | 0.163 | |
FidInfo_HS | 0.000 | 0.000 | 0.001 | |
FidInfo_HS_sp | 0.001 | 0.000 | 0.000 | |
FidInfo_HU | 0.001 | 0.000 | 0.000 | |
FidInfo_HU_sp | 0.001 | 0.000 | 0.001 | |
FinalSpecta_HS | 0.045 | 0.000 | 0.044 | |
FinalSpecta_HU | 0.005 | 0.000 | 0.004 | |
Group_HS | 0.001 | 0.000 | 0.001 | |
Group_HU | 0.001 | 0.000 | 0.001 | |
PEPSNMRData-package | 0.000 | 0.004 | 0.004 | |
RawFidData_HS | 0.002 | 0.000 | 0.003 | |