Back to Multiple platform build/check report for BioC 3.13 experimental data
ABCDEFGHI[J]KLMNOPQRSTUVWXYZ

BUILD report for JASPAR2014 on malbec2

This page was generated on 2021-01-21 16:01:13 -0500 (Thu, 21 Jan 2021).

TO THE DEVELOPERS/MAINTAINERS OF THE JASPAR2014 PACKAGE: Please make sure to use the following settings in order to reproduce any error or warning you see on this page.
Package 188/386HostnameOS / ArchINSTALLBUILDCHECK
JASPAR2014 1.27.0
Ge Tan
Snapshot Date: 2021-01-21 09:00:14 -0500 (Thu, 21 Jan 2021)
URL: https://git.bioconductor.org/packages/JASPAR2014
Branch: master
Last Commit: 005f946
Last Changed Date: 2020-10-27 10:05:53 -0500 (Tue, 27 Oct 2020)
malbec2 Linux (Ubuntu 20.04.1 LTS) / x86_64  OK [ OK ] OK UNNEEDED, same version exists in internal repository
riesling1 Windows Server 2019 Standard / x64  OK  OK  OK 

Summary

Package: JASPAR2014
Version: 1.27.0
Command: /home/biocbuild/bbs-3.13-bioc/R/bin/R CMD build --keep-empty-dirs --no-resave-data JASPAR2014
StartedAt: 2021-01-21 11:02:09 -0500 (Thu, 21 Jan 2021)
EndedAt: 2021-01-21 11:02:16 -0500 (Thu, 21 Jan 2021)
EllapsedTime: 6.7 seconds
RetCode: 0
Status:  OK 
PackageFile: JASPAR2014_1.27.0.tar.gz
PackageFileSize: 42.89 MiB

Command output

##############################################################################
##############################################################################
###
### Running command:
###
###   /home/biocbuild/bbs-3.13-bioc/R/bin/R CMD build --keep-empty-dirs --no-resave-data JASPAR2014
###
##############################################################################
##############################################################################


* checking for file ‘JASPAR2014/DESCRIPTION’ ... OK
* preparing ‘JASPAR2014’:
* checking DESCRIPTION meta-information ... OK
* checking for LF line-endings in source and make files and shell scripts
* checking for empty or unneeded directories
* building ‘JASPAR2014_1.27.0.tar.gz’