Back to Multiple platform build/check report for BioC 3.13 experimental data
ABCDEFGHIJK[L]MNOPQRSTUVWXYZ

BUILD report for lungExpression on malbec2

This page was generated on 2021-01-14 15:59:03 -0500 (Thu, 14 Jan 2021).

TO THE DEVELOPERS/MAINTAINERS OF THE lungExpression PACKAGE: Please make sure to use the following settings in order to reproduce any error or warning you see on this page.
Package 202/385HostnameOS / ArchINSTALLBUILDCHECK
lungExpression 0.29.0
Robert Scharpf
Snapshot Date: 2021-01-14 09:00:13 -0500 (Thu, 14 Jan 2021)
URL: https://git.bioconductor.org/packages/lungExpression
Branch: master
Last Commit: 3d6404a
Last Changed Date: 2020-10-27 09:47:18 -0500 (Tue, 27 Oct 2020)
malbec2 Linux (Ubuntu 20.04.1 LTS) / x86_64  OK [ OK ] OK UNNEEDED, same version exists in internal repository
riesling1 Windows Server 2019 Standard / x64  OK  OK  OK 

Summary

Package: lungExpression
Version: 0.29.0
Command: /home/biocbuild/bbs-3.13-bioc/R/bin/R CMD build --keep-empty-dirs --no-resave-data lungExpression
StartedAt: 2021-01-14 11:06:05 -0500 (Thu, 14 Jan 2021)
EndedAt: 2021-01-14 11:06:06 -0500 (Thu, 14 Jan 2021)
EllapsedTime: 1.3 seconds
RetCode: 0
Status:  OK 
PackageFile: lungExpression_0.29.0.tar.gz
PackageFileSize: 5.682 MiB

Command output

##############################################################################
##############################################################################
###
### Running command:
###
###   /home/biocbuild/bbs-3.13-bioc/R/bin/R CMD build --keep-empty-dirs --no-resave-data lungExpression
###
##############################################################################
##############################################################################


* checking for file ‘lungExpression/DESCRIPTION’ ... OK
* preparing ‘lungExpression’:
* checking DESCRIPTION meta-information ... OK
* checking for LF line-endings in source and make files and shell scripts
* checking for empty or unneeded directories
* looking to see if a ‘data/datalist’ file should be added
* building ‘lungExpression_0.29.0.tar.gz’