Back to Multiple platform build/check report for BioC 3.13 experimental data
ABCDEFGHIJKLMNOPQR[S]TUVWXYZ

BUILD report for SBGNview.data on malbec2

This page was generated on 2021-01-11 15:59:26 -0500 (Mon, 11 Jan 2021).

TO THE DEVELOPERS/MAINTAINERS OF THE SBGNview.data PACKAGE: Please make sure to use the following settings in order to reproduce any error or warning you see on this page.
Package 320/385HostnameOS / ArchINSTALLBUILDCHECK
SBGNview.data 1.5.0
Xiaoxi Dong
Snapshot Date: 2021-01-11 09:00:09 -0500 (Mon, 11 Jan 2021)
URL: https://git.bioconductor.org/packages/SBGNview.data
Branch: master
Last Commit: 6f92739
Last Changed Date: 2020-10-27 10:30:31 -0500 (Tue, 27 Oct 2020)
malbec2 Linux (Ubuntu 20.04.1 LTS) / x86_64  OK [ OK ] OK UNNEEDED, same version exists in internal repository
riesling1 Windows Server 2019 Standard / x64  OK  OK  WARNINGS 

Summary

Package: SBGNview.data
Version: 1.5.0
Command: /home/biocbuild/bbs-3.13-bioc/R/bin/R CMD build --keep-empty-dirs --no-resave-data SBGNview.data
StartedAt: 2021-01-11 11:23:43 -0500 (Mon, 11 Jan 2021)
EndedAt: 2021-01-11 11:24:59 -0500 (Mon, 11 Jan 2021)
EllapsedTime: 76.3 seconds
RetCode: 0
Status:  OK 
PackageFile: SBGNview.data_1.5.0.tar.gz
PackageFileSize: 61.09 MiB

Command output

##############################################################################
##############################################################################
###
### Running command:
###
###   /home/biocbuild/bbs-3.13-bioc/R/bin/R CMD build --keep-empty-dirs --no-resave-data SBGNview.data
###
##############################################################################
##############################################################################


* checking for file ‘SBGNview.data/DESCRIPTION’ ... OK
* preparing ‘SBGNview.data’:
* checking DESCRIPTION meta-information ... OK
* installing the package to build vignettes
* creating vignettes ... OK
* checking for LF line-endings in source and make files and shell scripts
* checking for empty or unneeded directories
* looking to see if a ‘data/datalist’ file should be added
* building ‘SBGNview.data_1.5.0.tar.gz’