Back to Multiple platform build/check report for BioC 3.13 experimental data |
|
This page was generated on 2021-01-21 16:01:09 -0500 (Thu, 21 Jan 2021).
TO THE DEVELOPERS/MAINTAINERS OF THE etec16s PACKAGE: Please make sure to use the following settings in order to reproduce any error or warning you see on this page. |
Package 113/386 | Hostname | OS / Arch | INSTALL | BUILD | CHECK | ||||||
etec16s 1.19.0 Joseph N. Paulson
| malbec2 | Linux (Ubuntu 20.04.1 LTS) / x86_64 | OK | [ OK ] | OK | ![]() | |||||
riesling1 | Windows Server 2019 Standard / x64 | OK | OK | OK |
Package: etec16s |
Version: 1.19.0 |
Command: /home/biocbuild/bbs-3.13-bioc/R/bin/R CMD build --keep-empty-dirs --no-resave-data etec16s |
StartedAt: 2021-01-21 10:41:03 -0500 (Thu, 21 Jan 2021) |
EndedAt: 2021-01-21 10:41:13 -0500 (Thu, 21 Jan 2021) |
EllapsedTime: 10.4 seconds |
RetCode: 0 |
Status: OK |
PackageFile: etec16s_1.19.0.tar.gz |
PackageFileSize: 254 KiB |
############################################################################## ############################################################################## ### ### Running command: ### ### /home/biocbuild/bbs-3.13-bioc/R/bin/R CMD build --keep-empty-dirs --no-resave-data etec16s ### ############################################################################## ############################################################################## * checking for file ‘etec16s/DESCRIPTION’ ... OK * preparing ‘etec16s’: * checking DESCRIPTION meta-information ... OK * installing the package to build vignettes * creating vignettes ... OK * checking for LF line-endings in source and make files and shell scripts * checking for empty or unneeded directories * building ‘etec16s_1.19.0.tar.gz’