Back to Multiple platform build/check report for BioC 3.13 experimental data |
|
This page was generated on 2021-01-21 16:01:21 -0500 (Thu, 21 Jan 2021).
TO THE DEVELOPERS/MAINTAINERS OF THE seventyGeneData PACKAGE: Please make sure to use the following settings in order to reproduce any error or warning you see on this page. |
Package 331/386 | Hostname | OS / Arch | INSTALL | BUILD | CHECK | ||||||
seventyGeneData 1.27.0 Luigi Marchionni
| malbec2 | Linux (Ubuntu 20.04.1 LTS) / x86_64 | OK | [ OK ] | OK | ![]() | |||||
riesling1 | Windows Server 2019 Standard / x64 | OK | OK | OK |
Package: seventyGeneData |
Version: 1.27.0 |
Command: /home/biocbuild/bbs-3.13-bioc/R/bin/R CMD build --keep-empty-dirs --no-resave-data seventyGeneData |
StartedAt: 2021-01-21 11:25:48 -0500 (Thu, 21 Jan 2021) |
EndedAt: 2021-01-21 11:27:07 -0500 (Thu, 21 Jan 2021) |
EllapsedTime: 79.4 seconds |
RetCode: 0 |
Status: OK |
PackageFile: seventyGeneData_1.27.0.tar.gz |
PackageFileSize: 145 MiB |
############################################################################## ############################################################################## ### ### Running command: ### ### /home/biocbuild/bbs-3.13-bioc/R/bin/R CMD build --keep-empty-dirs --no-resave-data seventyGeneData ### ############################################################################## ############################################################################## * checking for file ‘seventyGeneData/DESCRIPTION’ ... OK * preparing ‘seventyGeneData’: * checking DESCRIPTION meta-information ... OK * checking whether ‘INDEX’ is up-to-date ... NO * use ‘--force’ to remove the existing ‘INDEX’ * installing the package to build vignettes * creating vignettes ... OK * checking for LF line-endings in source and make files and shell scripts * checking for empty or unneeded directories * looking to see if a ‘data/datalist’ file should be added * building ‘seventyGeneData_1.27.0.tar.gz’