Back to Multiple platform build/check report for BioC 3.13 experimental data
ABC[D]EFGHIJKLMNOPQRSTUVWXYZ

BUILD report for derfinderData on malbec2

This page was generated on 2021-01-14 15:58:59 -0500 (Thu, 14 Jan 2021).

TO THE DEVELOPERS/MAINTAINERS OF THE derfinderData PACKAGE: Please make sure to use the following settings in order to reproduce any error or warning you see on this page.
Package 91/385HostnameOS / ArchINSTALLBUILDCHECK
derfinderData 2.9.1
Leonardo Collado-Torres
Snapshot Date: 2021-01-14 09:00:13 -0500 (Thu, 14 Jan 2021)
URL: https://git.bioconductor.org/packages/derfinderData
Branch: master
Last Commit: d7ced0a
Last Changed Date: 2020-12-17 18:10:49 -0500 (Thu, 17 Dec 2020)
malbec2 Linux (Ubuntu 20.04.1 LTS) / x86_64  OK [ OK ] OK UNNEEDED, same version exists in internal repository
riesling1 Windows Server 2019 Standard / x64  OK  OK  OK 

Summary

Package: derfinderData
Version: 2.9.1
Command: /home/biocbuild/bbs-3.13-bioc/R/bin/R CMD build --keep-empty-dirs --no-resave-data derfinderData
StartedAt: 2021-01-14 10:33:41 -0500 (Thu, 14 Jan 2021)
EndedAt: 2021-01-14 10:34:10 -0500 (Thu, 14 Jan 2021)
EllapsedTime: 29.0 seconds
RetCode: 0
Status:  OK 
PackageFile: derfinderData_2.9.1.tar.gz
PackageFileSize: 27.51 MiB

Command output

##############################################################################
##############################################################################
###
### Running command:
###
###   /home/biocbuild/bbs-3.13-bioc/R/bin/R CMD build --keep-empty-dirs --no-resave-data derfinderData
###
##############################################################################
##############################################################################


* checking for file ‘derfinderData/DESCRIPTION’ ... OK
* preparing ‘derfinderData’:
* checking DESCRIPTION meta-information ... OK
* installing the package to build vignettes
* creating vignettes ... OK
* checking for LF line-endings in source and make files and shell scripts
* checking for empty or unneeded directories
* building ‘derfinderData_2.9.1.tar.gz’