Back to Multiple platform build/check report for BioC 3.13 experimental data
ABCDEFGH[I]JKLMNOPQRSTUVWXYZ

BUILD report for IHWpaper on malbec2

This page was generated on 2021-01-14 15:59:03 -0500 (Thu, 14 Jan 2021).

TO THE DEVELOPERS/MAINTAINERS OF THE IHWpaper PACKAGE: Please make sure to use the following settings in order to reproduce any error or warning you see on this page.
Package 183/385HostnameOS / ArchINSTALLBUILDCHECK
IHWpaper 1.19.4
Nikos Ignatiadis
Snapshot Date: 2021-01-14 09:00:13 -0500 (Thu, 14 Jan 2021)
URL: https://git.bioconductor.org/packages/IHWpaper
Branch: master
Last Commit: 52253f5
Last Changed Date: 2021-01-11 23:43:33 -0500 (Mon, 11 Jan 2021)
malbec2 Linux (Ubuntu 20.04.1 LTS) / x86_64  OK [ OK ] OK YES, new version is higher than in internal repository
riesling1 Windows Server 2019 Standard / x64  OK  ERROR  skipped 

Summary

Package: IHWpaper
Version: 1.19.4
Command: /home/biocbuild/bbs-3.13-bioc/R/bin/R CMD build --keep-empty-dirs --no-resave-data IHWpaper
StartedAt: 2021-01-14 11:03:15 -0500 (Thu, 14 Jan 2021)
EndedAt: 2021-01-14 11:07:14 -0500 (Thu, 14 Jan 2021)
EllapsedTime: 239.3 seconds
RetCode: 0
Status:  OK 
PackageFile: IHWpaper_1.19.4.tar.gz
PackageFileSize: 75.25 MiB

Command output

##############################################################################
##############################################################################
###
### Running command:
###
###   /home/biocbuild/bbs-3.13-bioc/R/bin/R CMD build --keep-empty-dirs --no-resave-data IHWpaper
###
##############################################################################
##############################################################################


* checking for file ‘IHWpaper/DESCRIPTION’ ... OK
* preparing ‘IHWpaper’:
* checking DESCRIPTION meta-information ... OK
* cleaning src
* installing the package to build vignettes
* creating vignettes ... OK
* cleaning src
* checking for LF line-endings in source and make files and shell scripts
* checking for empty or unneeded directories
* building ‘IHWpaper_1.19.4.tar.gz’