Back to Multiple platform build/check report for BioC 3.13 experimental data |
|
This page was generated on 2021-01-21 16:01:12 -0500 (Thu, 21 Jan 2021).
TO THE DEVELOPERS/MAINTAINERS OF THE HelloRangesData PACKAGE: Please make sure to use the following settings in order to reproduce any error or warning you see on this page. |
Package 167/386 | Hostname | OS / Arch | INSTALL | BUILD | CHECK | ||||||
HelloRangesData 1.17.0 Michael Lawrence
| malbec2 | Linux (Ubuntu 20.04.1 LTS) / x86_64 | OK | [ OK ] | OK | ![]() | |||||
riesling1 | Windows Server 2019 Standard / x64 | OK | OK | OK |
Package: HelloRangesData |
Version: 1.17.0 |
Command: /home/biocbuild/bbs-3.13-bioc/R/bin/R CMD build --keep-empty-dirs --no-resave-data HelloRangesData |
StartedAt: 2021-01-21 10:57:56 -0500 (Thu, 21 Jan 2021) |
EndedAt: 2021-01-21 10:58:33 -0500 (Thu, 21 Jan 2021) |
EllapsedTime: 36.4 seconds |
RetCode: 0 |
Status: OK |
PackageFile: HelloRangesData_1.17.0.tar.gz |
PackageFileSize: 45.73 MiB |
############################################################################## ############################################################################## ### ### Running command: ### ### /home/biocbuild/bbs-3.13-bioc/R/bin/R CMD build --keep-empty-dirs --no-resave-data HelloRangesData ### ############################################################################## ############################################################################## * checking for file ‘HelloRangesData/DESCRIPTION’ ... OK * preparing ‘HelloRangesData’: * checking DESCRIPTION meta-information ... OK * installing the package to build vignettes * creating vignettes ... OK * checking for LF line-endings in source and make files and shell scripts * checking for empty or unneeded directories * creating default NAMESPACE file * building ‘HelloRangesData_1.17.0.tar.gz’