Back to Multiple platform build/check report for BioC 3.13 experimental data |
|
This page was generated on 2021-01-21 16:01:20 -0500 (Thu, 21 Jan 2021).
TO THE DEVELOPERS/MAINTAINERS OF THE RNASeqRData PACKAGE: Please make sure to use the following settings in order to reproduce any error or warning you see on this page. |
Package 301/386 | Hostname | OS / Arch | INSTALL | BUILD | CHECK | ||||||
RNASeqRData 1.9.0 Kuan-Hao Chao
| malbec2 | Linux (Ubuntu 20.04.1 LTS) / x86_64 | OK | [ OK ] | OK | ![]() | |||||
riesling1 | Windows Server 2019 Standard / x64 | OK | OK | OK |
Package: RNASeqRData |
Version: 1.9.0 |
Command: /home/biocbuild/bbs-3.13-bioc/R/bin/R CMD build --keep-empty-dirs --no-resave-data RNASeqRData |
StartedAt: 2021-01-21 11:18:28 -0500 (Thu, 21 Jan 2021) |
EndedAt: 2021-01-21 11:18:37 -0500 (Thu, 21 Jan 2021) |
EllapsedTime: 9.1 seconds |
RetCode: 0 |
Status: OK |
PackageFile: RNASeqRData_1.9.0.tar.gz |
PackageFileSize: 66.29 MiB |
############################################################################## ############################################################################## ### ### Running command: ### ### /home/biocbuild/bbs-3.13-bioc/R/bin/R CMD build --keep-empty-dirs --no-resave-data RNASeqRData ### ############################################################################## ############################################################################## * checking for file ‘RNASeqRData/DESCRIPTION’ ... OK * preparing ‘RNASeqRData’: * checking DESCRIPTION meta-information ... OK * checking for LF line-endings in source and make files and shell scripts * checking for empty or unneeded directories * building ‘RNASeqRData_1.9.0.tar.gz’